BEGIN:VCALENDAR
VERSION:2.0
PRODID:-//The Sugarbeet Research and Education Board of Minnesota and North Dakota - ECPv6.15.20//NONSGML v1.0//EN
CALSCALE:GREGORIAN
METHOD:PUBLISH
X-WR-CALNAME:The Sugarbeet Research and Education Board of Minnesota and North Dakota
X-ORIGINAL-URL:https://www.sbreb.org
X-WR-CALDESC:Events for The Sugarbeet Research and Education Board of Minnesota and North Dakota
REFRESH-INTERVAL;VALUE=DURATION:PT1H
X-Robots-Tag:noindex
X-PUBLISHED-TTL:PT1H
BEGIN:VTIMEZONE
TZID:America/Chicago
BEGIN:DAYLIGHT
TZOFFSETFROM:-0600
TZOFFSETTO:-0500
TZNAME:CDT
DTSTART:20170312T080000
END:DAYLIGHT
BEGIN:STANDARD
TZOFFSETFROM:-0500
TZOFFSETTO:-0600
TZNAME:CST
DTSTART:20171105T070000
END:STANDARD
BEGIN:DAYLIGHT
TZOFFSETFROM:-0600
TZOFFSETTO:-0500
TZNAME:CDT
DTSTART:20180311T080000
END:DAYLIGHT
BEGIN:STANDARD
TZOFFSETFROM:-0500
TZOFFSETTO:-0600
TZNAME:CST
DTSTART:20181104T070000
END:STANDARD
BEGIN:DAYLIGHT
TZOFFSETFROM:-0600
TZOFFSETTO:-0500
TZNAME:CDT
DTSTART:20190310T080000
END:DAYLIGHT
BEGIN:STANDARD
TZOFFSETFROM:-0500
TZOFFSETTO:-0600
TZNAME:CST
DTSTART:20191103T070000
END:STANDARD
BEGIN:DAYLIGHT
TZOFFSETFROM:-0600
TZOFFSETTO:-0500
TZNAME:CDT
DTSTART:20200308T080000
END:DAYLIGHT
BEGIN:STANDARD
TZOFFSETFROM:-0500
TZOFFSETTO:-0600
TZNAME:CST
DTSTART:20201101T070000
END:STANDARD
END:VTIMEZONE
BEGIN:VTIMEZONE
TZID:UTC
BEGIN:STANDARD
TZOFFSETFROM:+0000
TZOFFSETTO:+0000
TZNAME:UTC
DTSTART:20170101T000000
END:STANDARD
END:VTIMEZONE
BEGIN:VEVENT
DTSTART;VALUE=DATE:20190109
DTEND;VALUE=DATE:20190110
DTSTAMP:20260423T175613
CREATED:20181010T172209Z
LAST-MODIFIED:20181010T172209Z
UID:5621-1546992000-1547078399@www.sbreb.org
SUMMARY:Research and Education Board Meeting
DESCRIPTION:
URL:https://www.sbreb.org/event/research-and-education-board-meeting/
LOCATION:Holiday Inn and Convention Center\, 3803 13th Avenue South\, Fargo\, ND\, 58103\, United States
CATEGORIES:Sugarbeet Winter Meeting
END:VEVENT
BEGIN:VEVENT
DTSTART;VALUE=DATE:20190107
DTEND;VALUE=DATE:20190108
DTSTAMP:20260423T175613
CREATED:20181010T172121Z
LAST-MODIFIED:20181010T172121Z
UID:5617-1546819200-1546905599@www.sbreb.org
SUMMARY:ISBI Meeting and Dinner
DESCRIPTION:
URL:https://www.sbreb.org/event/isbi-meeting-and-dinner/
LOCATION:Holiday Inn and Convention Center\, 3803 13th Avenue South\, Fargo\, ND\, 58103\, United States
CATEGORIES:Sugarbeet Winter Meeting
END:VEVENT
BEGIN:VEVENT
DTSTART;VALUE=DATE:20181114
DTEND;VALUE=DATE:20181115
DTSTAMP:20260423T175613
CREATED:20181010T171906Z
LAST-MODIFIED:20181010T171942Z
UID:5615-1542153600-1542239999@www.sbreb.org
SUMMARY:Sugarbeet Technical Needs Meeting
DESCRIPTION:
URL:https://www.sbreb.org/event/sugarbeet-technical-needs-meeting/
LOCATION:Holiday Inn and Convention Center\, 3803 13th Avenue South\, Fargo\, ND\, 58103\, United States
CATEGORIES:Sugarbeet Winter Meeting
END:VEVENT
BEGIN:VEVENT
DTSTART;TZID=UTC:20180906T062500
DTEND;TZID=UTC:20180906T073000
DTSTAMP:20260423T175613
CREATED:20180502T183839Z
LAST-MODIFIED:20180720T130646Z
UID:4463-1536215100-1536219000@www.sbreb.org
SUMMARY:Radio – Harvest Update
DESCRIPTION:Speaker:\nMohamed Khan\nExt. SB Spec. NDSU/ U of M\nOffice: 701-231-8596\nCell: 218-790-8596 \nThe Reports Air:\n\n6:25 a.m. on KBRF AM 1250\n6:40 a.m. on KJJK FM 96.5\nFridays at 7:30 a.m. on KFGO\nFridays and Mondays on KQLX/890AM and Thunder 106.1\n\nAccess the Reports:\nhttps://www.ag.ndsu.edu/sugarbeetreport \nContact:\nKelli Armbruster\n701.231.6136\nkelli.armbruster@ndsu.edu \nMohamed Khan\n218-790-8596\nMohamed.khan@ndsu.edu
URL:https://www.sbreb.org/event/harvest-update/
LOCATION:ND
CATEGORIES:Radio Schedule
END:VEVENT
BEGIN:VEVENT
DTSTART;TZID=UTC:20180830T062500
DTEND;TZID=UTC:20180830T073000
DTSTAMP:20260423T175613
CREATED:20180502T183814Z
LAST-MODIFIED:20180720T130641Z
UID:4461-1535610300-1535614200@www.sbreb.org
SUMMARY:Radio – Soil Testing & Sampling
DESCRIPTION:Speaker:\nDavid Franzen\nExt. Soils Specialist/NDSU\nOffice: 701-231-8656\nCell: 701-799-2565 \nThe Reports Air:\n\n6:25 a.m. on KBRF AM 1250\n6:40 a.m. on KJJK FM 96.5\nFridays at 7:30 a.m. on KFGO\nFridays and Mondays on KQLX/890AM and Thunder 106.1\n\nAccess the Reports:\nhttps://www.ag.ndsu.edu/sugarbeetreport \nContact:\nKelli Armbruster\n701.231.6136\nkelli.armbruster@ndsu.edu \nMohamed Khan\n218-790-8596\nMohamed.khan@ndsu.edu
URL:https://www.sbreb.org/event/soil-testing-sampling/
LOCATION:ND
CATEGORIES:Radio Schedule
END:VEVENT
BEGIN:VEVENT
DTSTART;TZID=UTC:20180828T100000
DTEND;TZID=UTC:20180828T120000
DTSTAMP:20260423T175613
CREATED:20180628T152446Z
LAST-MODIFIED:20180720T130629Z
UID:4601-1535450400-1535457600@www.sbreb.org
SUMMARY:Plot Tour Foxhome – Controlling Cercospora Leaf Spot
DESCRIPTION:Location:\nFoxhome\, MN \nTitle:\nControlling Cercospora leaf spot in sugarbeet \nDirections:\nFrom the intersection of Hwy 75 and 210 in Breckenridge \n\nEast 11.7 miles on Hwy 210\nTurn North on 310th Ave for 1.6 miles\nTurn West on grassy field approach\nIf you get to the tree row and old silo you went too far\n\nLunch sponsored by Sipcam
URL:https://www.sbreb.org/event/controlling-cercospora-leaf-spot/
LOCATION:ND
CATEGORIES:Sugarbeet Plot Tour
END:VEVENT
BEGIN:VEVENT
DTSTART;TZID=UTC:20180823T062500
DTEND;TZID=UTC:20180823T073000
DTSTAMP:20260423T175613
CREATED:20180502T183746Z
LAST-MODIFIED:20180720T130619Z
UID:4459-1535005500-1535009400@www.sbreb.org
SUMMARY:Radio – Update on Sugarbeet Diseases
DESCRIPTION:Speaker:\nMohamed Khan\nExt. SB Spec. NDSU/ U of M\nOffice: 701-231-8596\nCell: 218-790-8596 \nThe Reports Air:\n\n6:25 a.m. on KBRF AM 1250\n6:40 a.m. on KJJK FM 96.5\nFridays at 7:30 a.m. on KFGO\nFridays and Mondays on KQLX/890AM and Thunder 106.1\n\nAccess the Reports:\nhttps://www.ag.ndsu.edu/sugarbeetreport \nContact:\nKelli Armbruster\n701.231.6136\nkelli.armbruster@ndsu.edu \nMohamed Khan\n218-790-8596\nMohamed.khan@ndsu.edu
URL:https://www.sbreb.org/event/update-on-sugarbeet-diseases/
LOCATION:ND
CATEGORIES:Radio Schedule
END:VEVENT
BEGIN:VEVENT
DTSTART;TZID=UTC:20180816T062500
DTEND;TZID=UTC:20180816T073000
DTSTAMP:20260423T175613
CREATED:20180502T183713Z
LAST-MODIFIED:20180720T130614Z
UID:4457-1534400700-1534404600@www.sbreb.org
SUMMARY:Radio – Fall Tillage
DESCRIPTION:Speaker:\nDavid Franzen\nExt. Soils Specialist/NDSU\nOffice: 701-231-8656\nCell: 701-799-2565 \nThe Reports Air:\n\n6:25 a.m. on KBRF AM 1250\n6:40 a.m. on KJJK FM 96.5\nFridays at 7:30 a.m. on KFGO\nFridays and Mondays on KQLX/890AM and Thunder 106.1\n\nAccess the Reports:\nhttps://www.ag.ndsu.edu/sugarbeetreport \nContact:\nKelli Armbruster\n701.231.6136\nkelli.armbruster@ndsu.edu \nMohamed Khan\n218-790-8596\nMohamed.khan@ndsu.edu
URL:https://www.sbreb.org/event/fall-tillage/
LOCATION:ND
CATEGORIES:Radio Schedule
END:VEVENT
BEGIN:VEVENT
DTSTART;TZID=UTC:20180809T062500
DTEND;TZID=UTC:20180809T073000
DTSTAMP:20260423T175613
CREATED:20180502T183618Z
LAST-MODIFIED:20180720T130608Z
UID:4455-1533795900-1533799800@www.sbreb.org
SUMMARY:Radio – Cercospora Leaf Spot Control
DESCRIPTION:Speaker:\nMohamed Khan\nExt. SB Spec. NDSU/ U of M\nOffice: 701-231-8596\nCell: 218-790-8596 \nThe Reports Air:\n\n6:25 a.m. on KBRF AM 1250\n6:40 a.m. on KJJK FM 96.5\nFridays at 7:30 a.m. on KFGO\nFridays and Mondays on KQLX/890AM and Thunder 106.1\n\nAccess the Reports:\nhttps://www.ag.ndsu.edu/sugarbeetreport \nContact:\nKelli Armbruster\n701.231.6136\nkelli.armbruster@ndsu.edu \nMohamed Khan\n218-790-8596\nMohamed.khan@ndsu.edu
URL:https://www.sbreb.org/event/cercospora-leaf-spot-control/
LOCATION:ND
CATEGORIES:Radio Schedule
END:VEVENT
BEGIN:VEVENT
DTSTART;TZID=UTC:20180807T100000
DTEND;TZID=UTC:20180807T130000
DTSTAMP:20260423T175613
CREATED:20180628T151834Z
LAST-MODIFIED:20180730T132728Z
UID:4597-1533636000-1533646800@www.sbreb.org
SUMMARY:Plot Tour Moorhead – Waterhemp Control in Sugarbeet
DESCRIPTION:Location:\nMoorhead\, MN \nTitle:\nWaterhemp Control in Sugarbeet \nDirections:\nFrom intersection of US Hwy 75 and 15th Ave N: \n\nWest 0.5 mile on 15th Ave N\nNorth at 14th St into school bus parking lot\nPlots on North side of trees (East side of Crystal Beet Seed Facility)\nGPS: 46o 53.510’N 96o45.412’W\n\nLunch Sponsored by Betaseed
URL:https://www.sbreb.org/event/waterhemp-control-in-sugarbeet/
LOCATION:ND
CATEGORIES:Sugarbeet Plot Tour
END:VEVENT
BEGIN:VEVENT
DTSTART;TZID=UTC:20180802T062500
DTEND;TZID=UTC:20180802T073000
DTSTAMP:20260423T175613
CREATED:20180502T183542Z
LAST-MODIFIED:20180720T130557Z
UID:4453-1533191100-1533195000@www.sbreb.org
SUMMARY:Radio – Crop Progress: ACSC American Crystal
DESCRIPTION:Speaker:\nTyler Grove\nAgronomist\, ACSC\nOffice: 218-236-4318\nCell: 218-303-6931 \nThe Reports Air:\n\n6:25 a.m. on KBRF AM 1250\n6:40 a.m. on KJJK FM 96.5\nFridays at 7:30 a.m. on KFGO\nFridays and Mondays on KQLX/890AM and Thunder 106.1\n\nAccess the Reports:\nhttps://www.ag.ndsu.edu/sugarbeetreport \nContact:\nKelli Armbruster\n701.231.6136\nkelli.armbruster@ndsu.edu \nMohamed Khan\n218-790-8596\nMohamed.khan@ndsu.edu
URL:https://www.sbreb.org/event/crop-progress-acsc-american-crystal/
LOCATION:ND
CATEGORIES:Radio Schedule
END:VEVENT
BEGIN:VEVENT
DTSTART;TZID=UTC:20180726T100000
DTEND;TZID=UTC:20180726T120000
DTSTAMP:20260423T175613
CREATED:20180628T152319Z
LAST-MODIFIED:20180720T130548Z
UID:4599-1532599200-1532606400@www.sbreb.org
SUMMARY:Plot Tour Prosper – Sugarbeet Crop Safety\, Rotational Crop Safety Following Ethofumesate
DESCRIPTION:Location:\nProsper\, ND \nTitle:\nSugarbeet crop safety\, rotational crop safety following ethofumesate POST in sugarbeet and sugarbeet growth and development \nDirections:\nFrom Fargo\, travel north on I-29 to the Harwood exit. \n\nTurn right/travel east 0.3 miles past Harwood gas station and across train tracks until four way stop at Old Hwy 81.\nTurn left/North onto Old Hwy 81 and travel 2.3 miles to Cty Hwy 32\nTurn left/West onto Cty Hwy 32 and travel west for 9.8 miles (note sign for Prosper Station on left)\nTurn left/south for about 0.5 mile\nTurn left onto field road and travel east until you reach the sugarbeet
URL:https://www.sbreb.org/event/sugarbeet-crop-safety-rotational-crop-safety-following-ethofumesate/
LOCATION:ND
CATEGORIES:Sugarbeet Plot Tour
END:VEVENT
BEGIN:VEVENT
DTSTART;TZID=UTC:20180726T062500
DTEND;TZID=UTC:20180726T073000
DTSTAMP:20260423T175613
CREATED:20180502T183450Z
LAST-MODIFIED:20180720T130535Z
UID:4451-1532586300-1532590200@www.sbreb.org
SUMMARY:Radio – Crop Progress: SMBSC Southern Minnesota
DESCRIPTION:Speaker:\nTodd Geselius\nVP Agriculture\, SMBSC\nOffice: 320-329-4170\nCell: 320-329-4170 \nThe Reports Air:\n\n6:25 a.m. on KBRF AM 1250\n6:40 a.m. on KJJK FM 96.5\nFridays at 7:30 a.m. on KFGO\nFridays and Mondays on KQLX/890AM and Thunder 106.1\n\nAccess the Reports:\nhttps://www.ag.ndsu.edu/sugarbeetreport \nContact:\nKelli Armbruster\n701.231.6136\nkelli.armbruster@ndsu.edu \nMohamed Khan\n218-790-8596\nMohamed.khan@ndsu.edu
URL:https://www.sbreb.org/event/crop-progress-smbsc-southern-minnesota/
LOCATION:ND
CATEGORIES:Radio Schedule
END:VEVENT
BEGIN:VEVENT
DTSTART;TZID=UTC:20180719T093000
DTEND;TZID=UTC:20180719T130000
DTSTAMP:20260423T175613
CREATED:20180628T151658Z
LAST-MODIFIED:20180720T130442Z
UID:4595-1531992600-1532005200@www.sbreb.org
SUMMARY:Plot Tour Thompson – Root Maggot Control
DESCRIPTION:Location:\nThompson\, ND \nTitle:\nRoot Maggot Control\n(An update on root maggot populations and field tour) \nDirections:\nFrom Thompson Exit (no. 130) on I-29: \n\nEast 3 miles on 7th Ave NE\nPlots on North side of road\nGPS: 47.744263 N -97.013741 W\n\nLunch sponsored by AMVAC
URL:https://www.sbreb.org/event/root-maggot-control-july19/
LOCATION:ND
CATEGORIES:Sugarbeet Plot Tour
END:VEVENT
BEGIN:VEVENT
DTSTART;TZID=UTC:20180719T062500
DTEND;TZID=UTC:20180719T073000
DTSTAMP:20260423T175613
CREATED:20180502T183410Z
LAST-MODIFIED:20180720T130452Z
UID:4449-1531981500-1531985400@www.sbreb.org
SUMMARY:Radio – Industry Challenges
DESCRIPTION:Speaker:\nDuane Maatz\nExec Dir\, RRVSBGA\nOffice: 701-239-4151\nCell: 701-261-1959 \nThe Reports Air:\n\n6:25 a.m. on KBRF AM 1250\n6:40 a.m. on KJJK FM 96.5\nFridays at 7:30 a.m. on KFGO\nFridays and Mondays on KQLX/890AM and Thunder 106.1\n\nAccess the Reports:\nhttps://www.ag.ndsu.edu/sugarbeetreport \nContact:\nKelli Armbruster\n701.231.6136\nkelli.armbruster@ndsu.edu \nMohamed Khan\n218-790-8596\nMohamed.khan@ndsu.edu
URL:https://www.sbreb.org/event/industry-challenges/
LOCATION:ND
CATEGORIES:Radio Schedule
END:VEVENT
BEGIN:VEVENT
DTSTART;TZID=UTC:20180718T121500
DTEND;TZID=UTC:20180718T140000
DTSTAMP:20260423T175613
CREATED:20180628T151415Z
LAST-MODIFIED:20180720T130423Z
UID:4593-1531916100-1531922400@www.sbreb.org
SUMMARY:Plot Tour Crookston – Managing Diseases & Nutrients
DESCRIPTION:Location:\nCrookston\, MN \nTitle:\nManaging diseases and nutrients in sugarbeet. Rotational crop safety following ethofumesate POST in sugarbeet \nDirections:\nThe field day will be held at the NWROC’s North Farm\, located one mile north of the University of Minnesota Crookston campus on Highway 75 North. \nComplimentary Lunch Served from noon to 1:00 PM
URL:https://www.sbreb.org/event/managing-diseases-nutrients/
LOCATION:ND
CATEGORIES:Sugarbeet Plot Tour
END:VEVENT
BEGIN:VEVENT
DTSTART;TZID=UTC:20180717T100000
DTEND;TZID=UTC:20180717T130000
DTSTAMP:20260423T175613
CREATED:20180628T151057Z
LAST-MODIFIED:20180720T130413Z
UID:4590-1531821600-1531832400@www.sbreb.org
SUMMARY:Plot Tour St. Thomas – Root Maggot Research
DESCRIPTION:Location:\nSt. Thomas\, ND \nTitle:\nRoot Maggot Research\n(An update on root maggot populations and field tour) \nDirections:\nImmediately W. of former Pete Carson farmstead. Approach field from West. No traffic through farmstead please! \nFrom St. Thomas: S. on US 81 2.5 mi. to ND Hwy 66/US 81 intersection; west 1 mi. to 147th Ave. NE; South ½ mi. to dirt rd.; East 0.6 mi.; plots are on N. side of road. \nFrom Drayton: Exit (#187) on I-29; West 12 mi. to ND Hwy 66/US 81 intersection; continue west 1 mi. to 147th Ave. NE; South ½ mi. to dirt rd.; East 0.6 mi.; plots are on N. side of road. \nFrom Grafton: North 9.5 mi. on US 81 to 79th St. NE; West 1 mi. to 147th Ave. NE; North ½ mi. to dirt rd.; East 0.6 mi.; plots are on N. side of road. \nGPS: 48.5656400 N -97.4549700 W \nLunch sponsored by Bayer Crop Science
URL:https://www.sbreb.org/event/root-maggot-research/
LOCATION:ND
CATEGORIES:Sugarbeet Plot Tour
END:VEVENT
BEGIN:VEVENT
DTSTART;TZID=UTC:20180716T100000
DTEND;TZID=UTC:20180716T140000
DTSTAMP:20260423T175613
CREATED:20180709T132701Z
LAST-MODIFIED:20180720T130359Z
UID:4605-1531735200-1531749600@www.sbreb.org
SUMMARY:Plot Tour Ada – Nutrient Management in Sugarbeet and Sugarbeet Growth and Development
DESCRIPTION:Location:\nAda\, MN \nTitle:\nNutrient Management in sugarbeet and sugarbeet growth and development \nDirections: (Ada – GPS: N  47°  19′  41.9″  W  096°  23′  48.5′) \nFrom Fargo head North via Hwy 75N \n\nTurn right/east on 200E to reach Ada\nContinue on 200E through ADA to 24\nTurn left on 24 and proceed north and then east\nTake the gravel road\nTurn north at the first maintained gravel road. Road adjust slightly to the east. Turn north at next gravel road. Plot is off to the right (east).
URL:https://www.sbreb.org/event/nutrient-management-in-sugarbeet-and-sugarbeet-growth-and-development/
LOCATION:ND
CATEGORIES:Sugarbeet Plot Tour
END:VEVENT
BEGIN:VEVENT
DTSTART;TZID=UTC:20180712T062500
DTEND;TZID=UTC:20180712T073000
DTSTAMP:20260423T175613
CREATED:20180502T183132Z
LAST-MODIFIED:20180720T130339Z
UID:4447-1531376700-1531380600@www.sbreb.org
SUMMARY:Radio – Crop Progress: MD
DESCRIPTION:Speaker:\nTom Knudsen\nVP Agriculture\, Minn-Dak\nOffice: 701-671-1351\nCell: 218-770-1531 \nThe Reports Air:\n\n6:25 a.m. on KBRF AM 1250\n6:40 a.m. on KJJK FM 96.5\nFridays at 7:30 a.m. on KFGO\nFridays and Mondays on KQLX/890AM and Thunder 106.1\n\nAccess the Reports:\nhttps://www.ag.ndsu.edu/sugarbeetreport \nContact:\nKelli Armbruster\n701.231.6136\nkelli.armbruster@ndsu.edu \nMohamed Khan\n218-790-8596\nMohamed.khan@ndsu.edu
URL:https://www.sbreb.org/event/crop-progress-md/
LOCATION:ND
CATEGORIES:Radio Schedule
END:VEVENT
BEGIN:VEVENT
DTSTART;TZID=UTC:20180705T062500
DTEND;TZID=UTC:20180705T073000
DTSTAMP:20260423T175613
CREATED:20180502T183035Z
LAST-MODIFIED:20180720T130321Z
UID:4445-1530771900-1530775800@www.sbreb.org
SUMMARY:Radio – SB Insect Control Update
DESCRIPTION:Speaker:\nMark Boetel\nRes & Ext. Entomology/NDSU\nOffice: 701-231-7901\nCell: 701-799-4554 \nThe Reports Air:\n\n6:25 a.m. on KBRF AM 1250\n6:40 a.m. on KJJK FM 96.5\nFridays at 7:30 a.m. on KFGO\nFridays and Mondays on KQLX/890AM and Thunder 106.1\n\nAccess the Reports:\nhttps://www.ag.ndsu.edu/sugarbeetreport \nContact:\nKelli Armbruster\n701.231.6136\nkelli.armbruster@ndsu.edu \nMohamed Khan\n218-790-8596\nMohamed.khan@ndsu.edu
URL:https://www.sbreb.org/event/sb-insect-control-update/
LOCATION:ND
CATEGORIES:Radio Schedule
END:VEVENT
BEGIN:VEVENT
DTSTART;TZID=UTC:20180628T062500
DTEND;TZID=UTC:20180628T073000
DTSTAMP:20260423T175613
CREATED:20180502T182940Z
LAST-MODIFIED:20180720T130308Z
UID:4443-1530167100-1530171000@www.sbreb.org
SUMMARY:Radio – SB Crop Progress
DESCRIPTION:Speaker:\nMohamed Khan\nExt. SB Spec. NDSU/ U of M\nOffice: 701-231-8596\nCell: 218-790-8596 \nThe Reports Air:\n\n6:25 a.m. on KBRF AM 1250\n6:40 a.m. on KJJK FM 96.5\nFridays at 7:30 a.m. on KFGO\nFridays and Mondays on KQLX/890AM and Thunder 106.1\n\nAccess the Reports:\nhttps://www.ag.ndsu.edu/sugarbeetreport \nContact:\nKelli Armbruster\n701.231.6136\nkelli.armbruster@ndsu.edu \nMohamed Khan\n218-790-8596\nMohamed.khan@ndsu.edu
URL:https://www.sbreb.org/event/sb-crop-progress/
LOCATION:ND
CATEGORIES:Radio Schedule
END:VEVENT
BEGIN:VEVENT
DTSTART;TZID=UTC:20180621T062500
DTEND;TZID=UTC:20180621T073000
DTSTAMP:20260423T175613
CREATED:20180502T182919Z
LAST-MODIFIED:20180502T182919Z
UID:4441-1529562300-1529566200@www.sbreb.org
SUMMARY:Root Rot Problems
DESCRIPTION:Speaker:\nMohamed Khan\nExt. SB Spec. NDSU/ U of M\nOffice: 701-231-8596\nCell: 218-790-8596 \nThe Reports Air:\n\n6:25 a.m. on KBRF AM 1250\n6:40 a.m. on KJJK FM 96.5\nFridays at 7:30 a.m. on KFGO\nFridays and Mondays on KQLX/890AM and Thunder 106.1\n\nAccess the Reports:\nhttps://www.ag.ndsu.edu/sugarbeetreport \nContact:\nKelli Armbruster\n701.231.6136\nkelli.armbruster@ndsu.edu \nMohamed Khan\n218-790-8596\nMohamed.khan@ndsu.edu
URL:https://www.sbreb.org/event/root-rot-problems/
LOCATION:ND
CATEGORIES:Radio Schedule
END:VEVENT
BEGIN:VEVENT
DTSTART;TZID=UTC:20180614T062500
DTEND;TZID=UTC:20180614T073000
DTSTAMP:20260423T175613
CREATED:20180502T182842Z
LAST-MODIFIED:20180502T182842Z
UID:4439-1528957500-1528961400@www.sbreb.org
SUMMARY:Root Maggot Control
DESCRIPTION:Speaker:\nMark Boetel\nRes & Ext. Entomology/NDSU\nOffice: 701-231-7901\nCell: 701-799-4554 \nThe Reports Air:\n\n6:25 a.m. on KBRF AM 1250\n6:40 a.m. on KJJK FM 96.5\nFridays at 7:30 a.m. on KFGO\nFridays and Mondays on KQLX/890AM and Thunder 106.1\n\nAccess the Reports:\nhttps://www.ag.ndsu.edu/sugarbeetreport \nContact:\nKelli Armbruster\n701.231.6136\nkelli.armbruster@ndsu.edu \nMohamed Khan\n218-790-8596\nMohamed.khan@ndsu.edu
URL:https://www.sbreb.org/event/root-maggot-control/
LOCATION:ND
CATEGORIES:Radio Schedule
END:VEVENT
BEGIN:VEVENT
DTSTART;TZID=UTC:20180601T062500
DTEND;TZID=UTC:20180601T073000
DTSTAMP:20260423T175613
CREATED:20180502T013747Z
LAST-MODIFIED:20180502T013747Z
UID:4433-1527834300-1527838200@www.sbreb.org
SUMMARY:Post-emergence Herbicides
DESCRIPTION:Speaker:\nTom Peters\nExt. SB Agronomist NDSU\nOffice: 701-231-8131\nCell: 218-790-8131 \nThe Reports Air:\n\n6:25 a.m. on KBRF AM 1250\n6:40 a.m. on KJJK FM 96.5\nFridays at 7:30 a.m. on KFGO\nFridays and Mondays on KQLX/890AM and Thunder 106.1\n\nAccess the Reports:\nhttps://www.ag.ndsu.edu/sugarbeetreport \nContact:\nKelli Armbruster\n701.231.6136\nkelli.armbruster@ndsu.edu \nMohamed Khan\n218-790-8596\nMohamed.khan@ndsu.edu
URL:https://www.sbreb.org/event/post-emergence-herbicides/
LOCATION:ND
CATEGORIES:Radio Schedule
END:VEVENT
BEGIN:VEVENT
DTSTART;TZID=UTC:20180531T062500
DTEND;TZID=UTC:20180531T073000
DTSTAMP:20260423T175613
CREATED:20180502T013700Z
LAST-MODIFIED:20180502T201442Z
UID:4431-1527747900-1527751800@www.sbreb.org
SUMMARY:Managing Soil Borne Diseases
DESCRIPTION:Speaker:\nAshok Chanda\nPlant Pathologist U of M\nOffice: 218-281-8625 \nThe Reports Air:\n\n6:25 a.m. on KBRF AM 1250\n6:40 a.m. on KJJK FM 96.5\nFridays at 7:30 a.m. on KFGO\nFridays and Mondays on KQLX/890AM and Thunder 106.1\n\nAccess the Reports:\nhttps://www.ag.ndsu.edu/sugarbeetreport \nContact:\nKelli Armbruster\n701.231.6136\nkelli.armbruster@ndsu.edu \nMohamed Khan\n218-790-8596\nMohamed.khan@ndsu.edu
URL:https://www.sbreb.org/event/managing-soil-borne-diseases/
LOCATION:ND
CATEGORIES:Radio Schedule
END:VEVENT
BEGIN:VEVENT
DTSTART;TZID=UTC:20180524T062500
DTEND;TZID=UTC:20180524T073000
DTSTAMP:20260423T175613
CREATED:20180502T013606Z
LAST-MODIFIED:20180502T013606Z
UID:4429-1527143100-1527147000@www.sbreb.org
SUMMARY:Root Maggot Alert
DESCRIPTION:Speaker:\nMark Boetel\nRes & Ext. Entomology/NDSU\nOffice: 701-231-7901\nCell: 701-799-4554 \nThe Reports Air:\n\n6:25 a.m. on KBRF AM 1250\n6:40 a.m. on KJJK FM 96.5\nFridays at 7:30 a.m. on KFGO\nFridays and Mondays on KQLX/890AM and Thunder 106.1\n\nAccess the Reports:\nhttps://www.ag.ndsu.edu/sugarbeetreport \nContact:\nKelli Armbruster\n701.231.6136\nkelli.armbruster@ndsu.edu \nMohamed Khan\n218-790-8596\nMohamed.khan@ndsu.edu
URL:https://www.sbreb.org/event/root-maggot-alert/
LOCATION:ND
CATEGORIES:Radio Schedule
END:VEVENT
BEGIN:VEVENT
DTSTART;TZID=UTC:20180517T062500
DTEND;TZID=UTC:20180517T073000
DTSTAMP:20260423T175613
CREATED:20180502T013224Z
LAST-MODIFIED:20180502T013224Z
UID:4427-1526538300-1526542200@www.sbreb.org
SUMMARY:Plant Populations for highest Yields & Quality
DESCRIPTION:Speaker:\nMohamed Khan\nExt. SB Spec. NDSU/ U of M\nOffice: 701-231-8596\nCell: 218-790-8596 \nThe Reports Air:\n\n6:25 a.m. on KBRF AM 1250\n6:40 a.m. on KJJK FM 96.5\nFridays at 7:30 a.m. on KFGO\nFridays and Mondays on KQLX/890AM and Thunder 106.1\n\nAccess the Reports:\nhttps://www.ag.ndsu.edu/sugarbeetreport \nContact:\nKelli Armbruster\n701.231.6136\nkelli.armbruster@ndsu.edu \nMohamed Khan\n218-790-8596\nMohamed.khan@ndsu.edu
URL:https://www.sbreb.org/event/plant-populations-for-highest-yields-quality/
LOCATION:ND
CATEGORIES:Radio Schedule
END:VEVENT
BEGIN:VEVENT
DTSTART;TZID=UTC:20180510T062500
DTEND;TZID=UTC:20180510T073000
DTSTAMP:20260423T175613
CREATED:20180502T011816Z
LAST-MODIFIED:20180502T201752Z
UID:4420-1525933500-1525937400@www.sbreb.org
SUMMARY:Planning for Weed Control
DESCRIPTION:Speaker:\nTom Peters\nExt. SB Agronomist NDSU\nOffice: 701-231-8131\nCell: 218-790-8131 \nThe Reports Air:\n\n6:25 a.m. on KBRF AM 1250\n6:40 a.m. on KJJK FM 96.5\nFridays at 7:30 a.m. on KFGO\nFridays and Mondays on KQLX/890AM and Thunder 106.1\n\nAccess the Reports:\nhttps://www.ag.ndsu.edu/sugarbeetreport \nContact:\nKelli Armbruster\n701.231.6136\nkelli.armbruster@ndsu.edu \nMohamed Khan\n218-790-8596\nMohamed.khan@ndsu.edu
URL:https://www.sbreb.org/event/planning-for-weed-control/
LOCATION:ND
CATEGORIES:Radio Schedule
END:VEVENT
END:VCALENDAR