BEGIN:VCALENDAR
VERSION:2.0
PRODID:-//The Sugarbeet Research and Education Board of Minnesota and North Dakota - ECPv6.15.20//NONSGML v1.0//EN
CALSCALE:GREGORIAN
METHOD:PUBLISH
X-WR-CALNAME:The Sugarbeet Research and Education Board of Minnesota and North Dakota
X-ORIGINAL-URL:https://www.sbreb.org
X-WR-CALDESC:Events for The Sugarbeet Research and Education Board of Minnesota and North Dakota
REFRESH-INTERVAL;VALUE=DURATION:PT1H
X-Robots-Tag:noindex
X-PUBLISHED-TTL:PT1H
BEGIN:VTIMEZONE
TZID:UTC
BEGIN:STANDARD
TZOFFSETFROM:+0000
TZOFFSETTO:+0000
TZNAME:UTC
DTSTART:20170101T000000
END:STANDARD
END:VTIMEZONE
BEGIN:VTIMEZONE
TZID:America/Chicago
BEGIN:DAYLIGHT
TZOFFSETFROM:-0600
TZOFFSETTO:-0500
TZNAME:CDT
DTSTART:20170312T080000
END:DAYLIGHT
BEGIN:STANDARD
TZOFFSETFROM:-0500
TZOFFSETTO:-0600
TZNAME:CST
DTSTART:20171105T070000
END:STANDARD
BEGIN:DAYLIGHT
TZOFFSETFROM:-0600
TZOFFSETTO:-0500
TZNAME:CDT
DTSTART:20180311T080000
END:DAYLIGHT
BEGIN:STANDARD
TZOFFSETFROM:-0500
TZOFFSETTO:-0600
TZNAME:CST
DTSTART:20181104T070000
END:STANDARD
BEGIN:DAYLIGHT
TZOFFSETFROM:-0600
TZOFFSETTO:-0500
TZNAME:CDT
DTSTART:20190310T080000
END:DAYLIGHT
BEGIN:STANDARD
TZOFFSETFROM:-0500
TZOFFSETTO:-0600
TZNAME:CST
DTSTART:20191103T070000
END:STANDARD
BEGIN:DAYLIGHT
TZOFFSETFROM:-0600
TZOFFSETTO:-0500
TZNAME:CDT
DTSTART:20200308T080000
END:DAYLIGHT
BEGIN:STANDARD
TZOFFSETFROM:-0500
TZOFFSETTO:-0600
TZNAME:CST
DTSTART:20201101T070000
END:STANDARD
END:VTIMEZONE
BEGIN:VEVENT
DTSTART;TZID=UTC:20180828T100000
DTEND;TZID=UTC:20180828T120000
DTSTAMP:20260423T065018
CREATED:20180628T152446Z
LAST-MODIFIED:20180720T130629Z
UID:4601-1535450400-1535457600@www.sbreb.org
SUMMARY:Plot Tour Foxhome – Controlling Cercospora Leaf Spot
DESCRIPTION:Location:\nFoxhome\, MN \nTitle:\nControlling Cercospora leaf spot in sugarbeet \nDirections:\nFrom the intersection of Hwy 75 and 210 in Breckenridge \n\nEast 11.7 miles on Hwy 210\nTurn North on 310th Ave for 1.6 miles\nTurn West on grassy field approach\nIf you get to the tree row and old silo you went too far\n\nLunch sponsored by Sipcam
URL:https://www.sbreb.org/event/controlling-cercospora-leaf-spot/
LOCATION:ND
CATEGORIES:Sugarbeet Plot Tour
END:VEVENT
BEGIN:VEVENT
DTSTART;TZID=UTC:20180830T062500
DTEND;TZID=UTC:20180830T073000
DTSTAMP:20260423T065018
CREATED:20180502T183814Z
LAST-MODIFIED:20180720T130641Z
UID:4461-1535610300-1535614200@www.sbreb.org
SUMMARY:Radio – Soil Testing & Sampling
DESCRIPTION:Speaker:\nDavid Franzen\nExt. Soils Specialist/NDSU\nOffice: 701-231-8656\nCell: 701-799-2565 \nThe Reports Air:\n\n6:25 a.m. on KBRF AM 1250\n6:40 a.m. on KJJK FM 96.5\nFridays at 7:30 a.m. on KFGO\nFridays and Mondays on KQLX/890AM and Thunder 106.1\n\nAccess the Reports:\nhttps://www.ag.ndsu.edu/sugarbeetreport \nContact:\nKelli Armbruster\n701.231.6136\nkelli.armbruster@ndsu.edu \nMohamed Khan\n218-790-8596\nMohamed.khan@ndsu.edu
URL:https://www.sbreb.org/event/soil-testing-sampling/
LOCATION:ND
CATEGORIES:Radio Schedule
END:VEVENT
BEGIN:VEVENT
DTSTART;TZID=UTC:20180906T062500
DTEND;TZID=UTC:20180906T073000
DTSTAMP:20260423T065018
CREATED:20180502T183839Z
LAST-MODIFIED:20180720T130646Z
UID:4463-1536215100-1536219000@www.sbreb.org
SUMMARY:Radio – Harvest Update
DESCRIPTION:Speaker:\nMohamed Khan\nExt. SB Spec. NDSU/ U of M\nOffice: 701-231-8596\nCell: 218-790-8596 \nThe Reports Air:\n\n6:25 a.m. on KBRF AM 1250\n6:40 a.m. on KJJK FM 96.5\nFridays at 7:30 a.m. on KFGO\nFridays and Mondays on KQLX/890AM and Thunder 106.1\n\nAccess the Reports:\nhttps://www.ag.ndsu.edu/sugarbeetreport \nContact:\nKelli Armbruster\n701.231.6136\nkelli.armbruster@ndsu.edu \nMohamed Khan\n218-790-8596\nMohamed.khan@ndsu.edu
URL:https://www.sbreb.org/event/harvest-update/
LOCATION:ND
CATEGORIES:Radio Schedule
END:VEVENT
BEGIN:VEVENT
DTSTART;VALUE=DATE:20181114
DTEND;VALUE=DATE:20181115
DTSTAMP:20260423T065018
CREATED:20181010T171906Z
LAST-MODIFIED:20181010T171942Z
UID:5615-1542153600-1542239999@www.sbreb.org
SUMMARY:Sugarbeet Technical Needs Meeting
DESCRIPTION:
URL:https://www.sbreb.org/event/sugarbeet-technical-needs-meeting/
LOCATION:Holiday Inn and Convention Center\, 3803 13th Avenue South\, Fargo\, ND\, 58103\, United States
CATEGORIES:Sugarbeet Winter Meeting
END:VEVENT
BEGIN:VEVENT
DTSTART;VALUE=DATE:20190107
DTEND;VALUE=DATE:20190108
DTSTAMP:20260423T065018
CREATED:20181010T172121Z
LAST-MODIFIED:20181010T172121Z
UID:5617-1546819200-1546905599@www.sbreb.org
SUMMARY:ISBI Meeting and Dinner
DESCRIPTION:
URL:https://www.sbreb.org/event/isbi-meeting-and-dinner/
LOCATION:Holiday Inn and Convention Center\, 3803 13th Avenue South\, Fargo\, ND\, 58103\, United States
CATEGORIES:Sugarbeet Winter Meeting
END:VEVENT
BEGIN:VEVENT
DTSTART;VALUE=DATE:20190109
DTEND;VALUE=DATE:20190110
DTSTAMP:20260423T065018
CREATED:20181010T172209Z
LAST-MODIFIED:20181010T172209Z
UID:5621-1546992000-1547078399@www.sbreb.org
SUMMARY:Research and Education Board Meeting
DESCRIPTION:
URL:https://www.sbreb.org/event/research-and-education-board-meeting/
LOCATION:Holiday Inn and Convention Center\, 3803 13th Avenue South\, Fargo\, ND\, 58103\, United States
CATEGORIES:Sugarbeet Winter Meeting
END:VEVENT
BEGIN:VEVENT
DTSTART;VALUE=DATE:20190220
DTEND;VALUE=DATE:20190221
DTSTAMP:20260423T065018
CREATED:20181010T172845Z
LAST-MODIFIED:20181010T172845Z
UID:5632-1550620800-1550707199@www.sbreb.org
SUMMARY:Research and Education Board Meeting
DESCRIPTION:
URL:https://www.sbreb.org/event/research-and-education-board-meeting-2/
LOCATION:Holiday Inn and Convention Center\, 3803 13th Avenue South\, Fargo\, ND\, 58103\, United States
CATEGORIES:Sugarbeet Winter Meeting
END:VEVENT
BEGIN:VEVENT
DTSTART;TZID=America/Chicago:20190226T080000
DTEND;TZID=America/Chicago:20190226T170000
DTSTAMP:20260423T065018
CREATED:20190131T193406Z
LAST-MODIFIED:20190204T210653Z
UID:5794-1551168000-1551200400@www.sbreb.org
SUMMARY:NDSU Planter Test Stand - Sidney Sugars
DESCRIPTION:
URL:https://www.sbreb.org/event/ndsu-planter-test-stand-sidney-sugars/
LOCATION:Sidney Sugars Incorporated\, 35140 Co Rd 125\, Sidney\, MT\, 59270\, United States
CATEGORIES:NDSU Planter Test Stand
END:VEVENT
BEGIN:VEVENT
DTSTART;TZID=America/Chicago:20190226T080000
DTEND;TZID=America/Chicago:20190227T170000
DTSTAMP:20260423T065018
CREATED:20190131T193535Z
LAST-MODIFIED:20190131T193547Z
UID:5796-1551168000-1551286800@www.sbreb.org
SUMMARY:NDSU Planter Test Stand - Tri-County Implement
DESCRIPTION:
URL:https://www.sbreb.org/event/ndsu-planter-test-stand-tri-county-implement/
LOCATION:Tri-County Implement Inc\, 2429 W Holly ST\, Sidney\, MT\, 59270\, United States
CATEGORIES:NDSU Planter Test Stand
END:VEVENT
BEGIN:VEVENT
DTSTART;TZID=America/Chicago:20190227T080000
DTEND;TZID=America/Chicago:20190227T170000
DTSTAMP:20260423T065018
CREATED:20190204T210632Z
LAST-MODIFIED:20190204T210632Z
UID:5840-1551254400-1551286800@www.sbreb.org
SUMMARY:NDSU Planter Test Stand - Sidney Sugars
DESCRIPTION:
URL:https://www.sbreb.org/event/ndsu-planter-test-stand-sidney-sugars-2/
LOCATION:Sidney Sugars Incorporated\, 35140 Co Rd 125\, Sidney\, MT\, 59270\, United States
CATEGORIES:NDSU Planter Test Stand
END:VEVENT
BEGIN:VEVENT
DTSTART;TZID=America/Chicago:20190304T080000
DTEND;TZID=America/Chicago:20190304T170000
DTSTAMP:20260423T065018
CREATED:20190131T193927Z
LAST-MODIFIED:20190204T211155Z
UID:5800-1551686400-1551718800@www.sbreb.org
SUMMARY:NDSU Planter Test Stand - Wahpeton/Breck MinnDak
DESCRIPTION:
URL:https://www.sbreb.org/event/ndsu-planter-test-stand-wahpeton-breck-minndak/
LOCATION:Wahpeton – Minn-Dak Farmers Cooperative\, 7525 Red River Road\, Wahpeton\, ND\, 58075\, United States
CATEGORIES:NDSU Planter Test Stand
END:VEVENT
BEGIN:VEVENT
DTSTART;TZID=America/Chicago:20190305T080000
DTEND;TZID=America/Chicago:20190305T170000
DTSTAMP:20260423T065018
CREATED:20190131T193807Z
LAST-MODIFIED:20190204T211059Z
UID:5798-1551772800-1551805200@www.sbreb.org
SUMMARY:NDSU Planter Test Stand - Renville SMSBS
DESCRIPTION:
URL:https://www.sbreb.org/event/ndsu-planter-test-stand-renville-smsbs-2/
LOCATION:Southern Minnesota Beet Sugar Cooperative\, 83550 Co Hwy 21\, Renville\, MN\, 56284\, United States
CATEGORIES:NDSU Planter Test Stand
END:VEVENT
BEGIN:VEVENT
DTSTART;TZID=America/Chicago:20190305T080000
DTEND;TZID=America/Chicago:20190305T170000
DTSTAMP:20260423T065018
CREATED:20190204T211213Z
LAST-MODIFIED:20190204T211213Z
UID:5844-1551772800-1551805200@www.sbreb.org
SUMMARY:NDSU Planter Test Stand - Wahpeton/Breck MinnDak
DESCRIPTION:
URL:https://www.sbreb.org/event/ndsu-planter-test-stand-wahpeton-breck-minndak-2/
LOCATION:Wahpeton – Minn-Dak Farmers Cooperative\, 7525 Red River Road\, Wahpeton\, ND\, 58075\, United States
CATEGORIES:NDSU Planter Test Stand
END:VEVENT
BEGIN:VEVENT
DTSTART;TZID=America/Chicago:20190306T080000
DTEND;TZID=America/Chicago:20190306T170000
DTSTAMP:20260423T065018
CREATED:20190204T211124Z
LAST-MODIFIED:20190204T211124Z
UID:5842-1551859200-1551891600@www.sbreb.org
SUMMARY:NDSU Planter Test Stand - Renville SMSBS
DESCRIPTION:
URL:https://www.sbreb.org/event/ndsu-planter-test-stand-renville-smsbs/
LOCATION:Southern Minnesota Beet Sugar Cooperative\, 83550 Co Hwy 21\, Renville\, MN\, 56284\, United States
CATEGORIES:NDSU Planter Test Stand
END:VEVENT
BEGIN:VEVENT
DTSTART;TZID=America/Chicago:20190306T080000
DTEND;TZID=America/Chicago:20190306T170000
DTSTAMP:20260423T065018
CREATED:20190204T211241Z
LAST-MODIFIED:20190204T211241Z
UID:5846-1551859200-1551891600@www.sbreb.org
SUMMARY:NDSU Planter Test Stand - Wahpeton/Breck MinnDak
DESCRIPTION:
URL:https://www.sbreb.org/event/ndsu-planter-test-stand-wahpeton-breck-minndak-3/
LOCATION:Wahpeton – Minn-Dak Farmers Cooperative\, 7525 Red River Road\, Wahpeton\, ND\, 58075\, United States
CATEGORIES:NDSU Planter Test Stand
END:VEVENT
BEGIN:VEVENT
DTSTART;TZID=America/Chicago:20190311T080000
DTEND;TZID=America/Chicago:20190311T170000
DTSTAMP:20260423T065018
CREATED:20190131T194138Z
LAST-MODIFIED:20190131T194138Z
UID:5802-1552291200-1552323600@www.sbreb.org
SUMMARY:NDSU Planter Test Stand - Mahnomen Evergreen Implement
DESCRIPTION:
URL:https://www.sbreb.org/event/ndsu-planter-test-stand-mahnomen-evergreen-implement/
LOCATION:Mahnomen – Evergreen Implement Co.\, 300 US-59\, Mahnomen\, MN\, 56557\, United States
CATEGORIES:NDSU Planter Test Stand
END:VEVENT
BEGIN:VEVENT
DTSTART;TZID=America/Chicago:20190311T080000
DTEND;TZID=America/Chicago:20190311T170000
DTSTAMP:20260423T065018
CREATED:20190131T194225Z
LAST-MODIFIED:20190131T194225Z
UID:5804-1552291200-1552323600@www.sbreb.org
SUMMARY:NDSU Planter Test Stand - Grafton Pro-Ag
DESCRIPTION:
URL:https://www.sbreb.org/event/ndsu-planter-test-stand-grafton-pro-ag/
LOCATION:Grafton Pro AG Equipment Inc\, 15065 ND-17\, Grafton\, MN\, 58237\, United States
CATEGORIES:NDSU Planter Test Stand
END:VEVENT
BEGIN:VEVENT
DTSTART;TZID=America/Chicago:20190312T080000
DTEND;TZID=America/Chicago:20190312T170000
DTSTAMP:20260423T065018
CREATED:20190131T194315Z
LAST-MODIFIED:20190204T211311Z
UID:5806-1552377600-1552410000@www.sbreb.org
SUMMARY:NDSU Planter Test Stand - Ada/Halstad Elevator Agronomy
DESCRIPTION:
URL:https://www.sbreb.org/event/ndsu-planter-test-stand-ada-halstad-elevator-agronomy/
LOCATION:Halstad Elevator Company\, 2722 MN-200\, Ada\, MN\, 56510\, United States
CATEGORIES:NDSU Planter Test Stand
END:VEVENT
BEGIN:VEVENT
DTSTART;TZID=America/Chicago:20190313T080000
DTEND;TZID=America/Chicago:20190313T170000
DTSTAMP:20260423T065018
CREATED:20190204T211333Z
LAST-MODIFIED:20190204T211333Z
UID:5848-1552464000-1552496400@www.sbreb.org
SUMMARY:NDSU Planter Test Stand - Ada/Halstad Elevator Agronomy
DESCRIPTION:
URL:https://www.sbreb.org/event/ndsu-planter-test-stand-ada-halstad-elevator-agronomy-2/
LOCATION:Halstad Elevator Company\, 2722 MN-200\, Ada\, MN\, 56510\, United States
CATEGORIES:NDSU Planter Test Stand
END:VEVENT
BEGIN:VEVENT
DTSTART;TZID=America/Chicago:20190314T080000
DTEND;TZID=America/Chicago:20190314T170000
DTSTAMP:20260423T065018
CREATED:20190131T194525Z
LAST-MODIFIED:20190204T211358Z
UID:5808-1552550400-1552582800@www.sbreb.org
SUMMARY:NDSU Planter Test Stand - Steve Williams Farm
DESCRIPTION:
URL:https://www.sbreb.org/event/ndsu-planter-test-stand-steve-williams-farm/
LOCATION:Williams Farms Inc\, 33609 280th Street Sw\, Fisher\, MN\, 56723\, United States
CATEGORIES:NDSU Planter Test Stand
END:VEVENT
BEGIN:VEVENT
DTSTART;TZID=America/Chicago:20190315T080000
DTEND;TZID=America/Chicago:20190315T170000
DTSTAMP:20260423T065018
CREATED:20190204T211418Z
LAST-MODIFIED:20190204T211429Z
UID:5850-1552636800-1552669200@www.sbreb.org
SUMMARY:NDSU Planter Test Stand - Steve Williams Farm
DESCRIPTION:
URL:https://www.sbreb.org/event/ndsu-planter-test-stand-steve-williams-farm-2/
LOCATION:Williams Farms Inc\, 33609 280th Street Sw\, Fisher\, MN\, 56723\, United States
CATEGORIES:NDSU Planter Test Stand
END:VEVENT
BEGIN:VEVENT
DTSTART;TZID=America/Chicago:20190318T080000
DTEND;TZID=America/Chicago:20190318T170000
DTSTAMP:20260423T065018
CREATED:20190131T194620Z
LAST-MODIFIED:20190204T211449Z
UID:5810-1552896000-1552928400@www.sbreb.org
SUMMARY:NDSU Planter Test Stand - Hillsboro Valley/Plains & Equipment
DESCRIPTION:
URL:https://www.sbreb.org/event/ndsu-planter-test-stand-hillsboro-valley-plains-equipment/
LOCATION:Valley Plains Equipment\, 202 6th St SW\, Hillsboro\, ND\, 58045\, United States
CATEGORIES:NDSU Planter Test Stand
END:VEVENT
BEGIN:VEVENT
DTSTART;TZID=America/Chicago:20190319T080000
DTEND;TZID=America/Chicago:20190319T170000
DTSTAMP:20260423T065018
CREATED:20190204T211508Z
LAST-MODIFIED:20190204T211508Z
UID:5852-1552982400-1553014800@www.sbreb.org
SUMMARY:NDSU Planter Test Stand - Hillsboro Valley/Plains & Equipment
DESCRIPTION:
URL:https://www.sbreb.org/event/ndsu-planter-test-stand-hillsboro-valley-plains-equipment-2/
LOCATION:Valley Plains Equipment\, 202 6th St SW\, Hillsboro\, ND\, 58045\, United States
CATEGORIES:NDSU Planter Test Stand
END:VEVENT
BEGIN:VEVENT
DTSTART;TZID=America/Chicago:20190325T080000
DTEND;TZID=America/Chicago:20190325T170000
DTSTAMP:20260423T065018
CREATED:20190131T194729Z
LAST-MODIFIED:20190204T211533Z
UID:5812-1553500800-1553533200@www.sbreb.org
SUMMARY:NDSU Planter Test Stand - Warren Evergreen Implement
DESCRIPTION:
URL:https://www.sbreb.org/event/ndsu-planter-test-stand-warren-evergreen-implement/
LOCATION:Warren – Evergreen Implement Co\, 605 S Main St\, Warren\, MN\, 56762\, United States
CATEGORIES:NDSU Planter Test Stand
END:VEVENT
BEGIN:VEVENT
DTSTART;TZID=America/Chicago:20190326T080000
DTEND;TZID=America/Chicago:20190326T170000
DTSTAMP:20260423T065018
CREATED:20190204T211551Z
LAST-MODIFIED:20190204T211551Z
UID:5854-1553587200-1553619600@www.sbreb.org
SUMMARY:NDSU Planter Test Stand - Warren Evergreen Implement
DESCRIPTION:
URL:https://www.sbreb.org/event/ndsu-planter-test-stand-warren-evergreen-implement-2/
LOCATION:Warren – Evergreen Implement Co\, 605 S Main St\, Warren\, MN\, 56762\, United States
CATEGORIES:NDSU Planter Test Stand
END:VEVENT
BEGIN:VEVENT
DTSTART;TZID=America/Chicago:20190327T080000
DTEND;TZID=America/Chicago:20190327T170000
DTSTAMP:20260423T065018
CREATED:20190131T194832Z
LAST-MODIFIED:20190204T211645Z
UID:5814-1553673600-1553706000@www.sbreb.org
SUMMARY:NDSU Planter Test Stand - Adams Family Farm
DESCRIPTION:
URL:https://www.sbreb.org/event/ndsu-planter-test-stand-adams-family-farm/
LOCATION:Adams Family Farm\, 801 62nd Ave SE\, Grand Forks\, ND\, 58201\, United States
CATEGORIES:NDSU Planter Test Stand
END:VEVENT
BEGIN:VEVENT
DTSTART;TZID=America/Chicago:20190327T080000
DTEND;TZID=America/Chicago:20190327T170000
DTSTAMP:20260423T065018
CREATED:20190131T194914Z
LAST-MODIFIED:20190204T211725Z
UID:5816-1553673600-1553706000@www.sbreb.org
SUMMARY:NDSU Planter Test Stand - Moorhead-Betaseed Res. Farm
DESCRIPTION:
URL:https://www.sbreb.org/event/ndsu-planter-test-stand-moorhead-betaseed-res-farm/
LOCATION:Moorhead – Betaseed\, Inc.\, 5756 50TH Ave S\, Moorhead\, MN\, 56560\, United States
CATEGORIES:NDSU Planter Test Stand
END:VEVENT
BEGIN:VEVENT
DTSTART;TZID=America/Chicago:20190328T080000
DTEND;TZID=America/Chicago:20190328T170000
DTSTAMP:20260423T065018
CREATED:20190204T211704Z
LAST-MODIFIED:20190204T211704Z
UID:5856-1553760000-1553792400@www.sbreb.org
SUMMARY:NDSU Planter Test Stand - Adams Family Farm
DESCRIPTION:
URL:https://www.sbreb.org/event/ndsu-planter-test-stand-adams-family-farm-2/
LOCATION:Adams Family Farm\, 801 62nd Ave SE\, Grand Forks\, ND\, 58201\, United States
CATEGORIES:NDSU Planter Test Stand
END:VEVENT
BEGIN:VEVENT
DTSTART;TZID=America/Chicago:20190328T080000
DTEND;TZID=America/Chicago:20190328T170000
DTSTAMP:20260423T065018
CREATED:20190204T211744Z
LAST-MODIFIED:20190204T211744Z
UID:5858-1553760000-1553792400@www.sbreb.org
SUMMARY:NDSU Planter Test Stand - Moorhead-Betaseed Res. Farm
DESCRIPTION:
URL:https://www.sbreb.org/event/ndsu-planter-test-stand-moorhead-betaseed-res-farm-2/
LOCATION:Moorhead – Betaseed\, Inc.\, 5756 50TH Ave S\, Moorhead\, MN\, 56560\, United States
CATEGORIES:NDSU Planter Test Stand
END:VEVENT
BEGIN:VEVENT
DTSTART;TZID=America/Chicago:20190401T130000
DTEND;TZID=America/Chicago:20190401T170000
DTSTAMP:20260423T065018
CREATED:20190131T195001Z
LAST-MODIFIED:20190204T211823Z
UID:5818-1554123600-1554138000@www.sbreb.org
SUMMARY:NDSU Planter Test Stand - Cavalier Equipment
DESCRIPTION:
URL:https://www.sbreb.org/event/ndsu-planter-test-stand-cavalier-equipment/
LOCATION:Cavalier Equipment\, 13968 Hwy 5 West\, Cavalier\, ND\, 58220\, United States
CATEGORIES:NDSU Planter Test Stand
END:VEVENT
END:VCALENDAR