BEGIN:VCALENDAR
VERSION:2.0
PRODID:-//The Sugarbeet Research and Education Board of Minnesota and North Dakota - ECPv6.15.20//NONSGML v1.0//EN
CALSCALE:GREGORIAN
METHOD:PUBLISH
X-ORIGINAL-URL:https://www.sbreb.org
X-WR-CALDESC:Events for The Sugarbeet Research and Education Board of Minnesota and North Dakota
REFRESH-INTERVAL;VALUE=DURATION:PT1H
X-Robots-Tag:noindex
X-PUBLISHED-TTL:PT1H
BEGIN:VTIMEZONE
TZID:America/Chicago
BEGIN:DAYLIGHT
TZOFFSETFROM:-0600
TZOFFSETTO:-0500
TZNAME:CDT
DTSTART:20210314T080000
END:DAYLIGHT
BEGIN:STANDARD
TZOFFSETFROM:-0500
TZOFFSETTO:-0600
TZNAME:CST
DTSTART:20211107T070000
END:STANDARD
BEGIN:DAYLIGHT
TZOFFSETFROM:-0600
TZOFFSETTO:-0500
TZNAME:CDT
DTSTART:20220313T080000
END:DAYLIGHT
BEGIN:STANDARD
TZOFFSETFROM:-0500
TZOFFSETTO:-0600
TZNAME:CST
DTSTART:20221106T070000
END:STANDARD
BEGIN:DAYLIGHT
TZOFFSETFROM:-0600
TZOFFSETTO:-0500
TZNAME:CDT
DTSTART:20230312T080000
END:DAYLIGHT
BEGIN:STANDARD
TZOFFSETFROM:-0500
TZOFFSETTO:-0600
TZNAME:CST
DTSTART:20231105T070000
END:STANDARD
BEGIN:DAYLIGHT
TZOFFSETFROM:-0600
TZOFFSETTO:-0500
TZNAME:CDT
DTSTART:20240310T080000
END:DAYLIGHT
BEGIN:STANDARD
TZOFFSETFROM:-0500
TZOFFSETTO:-0600
TZNAME:CST
DTSTART:20241103T070000
END:STANDARD
BEGIN:DAYLIGHT
TZOFFSETFROM:-0600
TZOFFSETTO:-0500
TZNAME:CDT
DTSTART:20250309T080000
END:DAYLIGHT
BEGIN:STANDARD
TZOFFSETFROM:-0500
TZOFFSETTO:-0600
TZNAME:CST
DTSTART:20251102T070000
END:STANDARD
BEGIN:DAYLIGHT
TZOFFSETFROM:-0600
TZOFFSETTO:-0500
TZNAME:CDT
DTSTART:20260308T080000
END:DAYLIGHT
BEGIN:STANDARD
TZOFFSETFROM:-0500
TZOFFSETTO:-0600
TZNAME:CST
DTSTART:20261101T070000
END:STANDARD
BEGIN:DAYLIGHT
TZOFFSETFROM:-0600
TZOFFSETTO:-0500
TZNAME:CDT
DTSTART:20270314T080000
END:DAYLIGHT
BEGIN:STANDARD
TZOFFSETFROM:-0500
TZOFFSETTO:-0600
TZNAME:CST
DTSTART:20271107T070000
END:STANDARD
END:VTIMEZONE
BEGIN:VEVENT
DTSTART;TZID=America/Chicago:20220201T083000
DTEND;TZID=America/Chicago:20220201T123000
DTSTAMP:20260423T065936
CREATED:20220128T163236Z
LAST-MODIFIED:20220128T210357Z
UID:6323-1643704200-1643718600@www.sbreb.org
SUMMARY:ACSC Sugarbeet Growers Seminar in Grand Forks
DESCRIPTION:NDSU Schedules ACSC Sugarbeet Growers Seminars for February 2022 \nSugarbeet growers will have an opportunity to learn more about diseases\, weeds and insect pests during seminars North Dakota State University is hosting\, February 1\, 3 and 17. Seminars begin at 8:30AM. \nSeminar schedule: \n\nTuesday\, Feb. 1 – American Crystal Sugar Co. growers from the East Grand Forks and Crookston factory districts at the Alerus Center\, Grand Forks.\nThursday\, Feb. 3 – American Crystal Sugar Co. seminar for growers from the Moorhead and Hillsboro factory districts at the Holiday Inn\, Fargo\nThursday\, Feb. 17 – American Crystal Sugar Co. growers from the Drayton factory district at the Frozen Fox\, Grafton.\n\nThe presenters and topics that they will cover are: \n\nAshok Chanda\, University of Minnesota Extension sugarbeet crop systems specialist – managing Rhizoctonia damping-off and root rot of sugarbeet\nMohamed Khan\, NDSU and University of Minnesota Extension sugarbeet specialist – strategies to manage cercospora leaf spot of sugarbeet\nTom Peters\, NDSU and University of Minnesota Extension sugarbeet agronomist – weed management in sugarbeet and in crops in rotation with sugarbeet\nMark Boetel\, NDSU Extension entomologist – recommendations on how to optimize insect pest control in sugarbeet\n\nCertified crop advisers will receive continuing education credits for their participation in the seminars. Registration is not required.
URL:https://www.sbreb.org/event/acsc-sugarbeet-growers-seminar-feb-1/
LOCATION:Alerus Center\, 1200 S 42nd St.\, Grand Forks\, ND\, 58201\, United States
CATEGORIES:Growers Seminar
END:VEVENT
BEGIN:VEVENT
DTSTART;TZID=America/Chicago:20220203T083000
DTEND;TZID=America/Chicago:20220203T123000
DTSTAMP:20260423T065936
CREATED:20220128T163326Z
LAST-MODIFIED:20220128T210442Z
UID:6325-1643877000-1643891400@www.sbreb.org
SUMMARY:ACSC Sugarbeet Growers Seminar in Fargo
DESCRIPTION:NDSU Schedules ACSC Sugarbeet Growers Seminars for February 2022 \nSugarbeet growers will have an opportunity to learn more about diseases\, weeds and insect pests during seminars North Dakota State University is hosting\, February 1\, 3 and 17. Seminars begin at 8:30AM. \nSeminar schedule: \n\nTuesday\, Feb. 1 – American Crystal Sugar Co. growers from the East Grand Forks and Crookston factory districts at the Alerus Center\, Grand Forks.\nThursday\, Feb. 3 – American Crystal Sugar Co. seminar for growers from the Moorhead and Hillsboro factory districts at the Holiday Inn\, Fargo\nThursday\, Feb. 17 – American Crystal Sugar Co. growers from the Drayton factory district at the Frozen Fox\, Grafton.\n\nThe presenters and topics that they will cover are: \n\nAshok Chanda\, University of Minnesota Extension sugarbeet crop systems specialist – managing Rhizoctonia damping-off and root rot of sugarbeet\nMohamed Khan\, NDSU and University of Minnesota Extension sugarbeet specialist – strategies to manage cercospora leaf spot of sugarbeet\nTom Peters\, NDSU and University of Minnesota Extension sugarbeet agronomist – weed management in sugarbeet and in crops in rotation with sugarbeet\nMark Boetel\, NDSU Extension entomologist – recommendations on how to optimize insect pest control in sugarbeet\n\nCertified crop advisers will receive continuing education credits for their participation in the seminars. Registration is not required.
URL:https://www.sbreb.org/event/acsc-sugarbeet-growers-seminar-feb-3/
LOCATION:Holiday Inn\, Fargo\, ND\, 58103\, United States
CATEGORIES:Growers Seminar
END:VEVENT
BEGIN:VEVENT
DTSTART;TZID=America/Chicago:20220217T083000
DTEND;TZID=America/Chicago:20220217T123000
DTSTAMP:20260423T065936
CREATED:20220128T163417Z
LAST-MODIFIED:20220128T210549Z
UID:6327-1645086600-1645101000@www.sbreb.org
SUMMARY:ACSC Sugarbeet Growers Seminar in Grafton
DESCRIPTION:NDSU Schedules ACSC Sugarbeet Growers Seminars for February 2022 \nSugarbeet growers will have an opportunity to learn more about diseases\, weeds and insect pests during seminars North Dakota State University is hosting\, February 1\, 3 and 17. Seminars begin at 8:30AM. \nSeminar schedule: \n\nTuesday\, Feb. 1 – American Crystal Sugar Co. growers from the East Grand Forks and Crookston factory districts at the Alerus Center\, Grand Forks.\nThursday\, Feb. 3 – American Crystal Sugar Co. seminar for growers from the Moorhead and Hillsboro factory districts at the Holiday Inn\, Fargo\nThursday\, Feb. 17 – American Crystal Sugar Co. growers from the Drayton factory district at the Frozen Fox\, Grafton.\n\nThe presenters and topics that they will cover are: \n\nAshok Chanda\, University of Minnesota Extension sugarbeet crop systems specialist – managing Rhizoctonia damping-off and root rot of sugarbeet\nMohamed Khan\, NDSU and University of Minnesota Extension sugarbeet specialist – strategies to manage cercospora leaf spot of sugarbeet\nTom Peters\, NDSU and University of Minnesota Extension sugarbeet agronomist – weed management in sugarbeet and in crops in rotation with sugarbeet\nMark Boetel\, NDSU Extension entomologist – recommendations on how to optimize insect pest control in sugarbeet\n\nCertified crop advisers will receive continuing education credits for their participation in the seminars. Registration is not required.
URL:https://www.sbreb.org/event/acsc-sugarbeet-growers-seminars-feb-17/
LOCATION:Frosty Fox\, 43 E 8th St\, Grafton\, 58237
CATEGORIES:Growers Seminar
END:VEVENT
BEGIN:VEVENT
DTSTART;TZID=America/Chicago:20230110T080000
DTEND;TZID=America/Chicago:20230110T160000
DTSTAMP:20260423T065936
CREATED:20221010T135903Z
LAST-MODIFIED:20221010T220921Z
UID:6467-1673337600-1673366400@www.sbreb.org
SUMMARY:Sugarbeet Reporting Session
DESCRIPTION:The Sugarbeet Reporting Session is Tuesday\, January 10\, 2023\, at the DoubleTree Hotel in West Fargo\, ND.
URL:https://www.sbreb.org/event/research-reporting-session-01102023/
LOCATION:DoubleTree by Hilton\, 825 E Beaton Dr\, West Fargo\, 58078\, United States
CATEGORIES:Research Reporting
END:VEVENT
BEGIN:VEVENT
DTSTART;TZID=America/Chicago:20230201T090000
DTEND;TZID=America/Chicago:20230201T123000
DTSTAMP:20260423T065936
CREATED:20221025T142000Z
LAST-MODIFIED:20221025T142816Z
UID:6475-1675242000-1675254600@www.sbreb.org
SUMMARY:Fargo Growers Seminar Winter 2023
DESCRIPTION:Fargo Growers Seminar\, Holiday Inn and Convention Center\, Fargo\, February 1\, 2023\, 9:00AM
URL:https://www.sbreb.org/event/fargo-growers-seminar-winter-2023/
LOCATION:Holiday Inn\, Fargo\, ND\, 58103\, United States
CATEGORIES:Growers Seminar
END:VEVENT
BEGIN:VEVENT
DTSTART;TZID=America/Chicago:20230207T083000
DTEND;TZID=America/Chicago:20230207T123000
DTSTAMP:20260423T065936
CREATED:20221025T133024Z
LAST-MODIFIED:20230203T210820Z
UID:6477-1675758600-1675773000@www.sbreb.org
SUMMARY:Grand Forks Growers Seminar Winter 2023
DESCRIPTION:Grand Forks Growers Seminar\, Alerus Center\, Grand Forks\, ND\, February 7\, 2023\, 8:30AM \n2023 ACSC Growers’ Seminars\nFargo\, Holiday Inn – February 1\, 2023\nGrand Forks\, Alerus Center – February 7\, 2023\nGrafton\, Frosty Fox – February 9\, 2023\nPlease note starting time will be 8:30 a.m.\nTopics and Speakers:\n8:30 – 9:10 Turning Point Survey\n9:10 – 9:40 Optimizing Insect Control in Sugarbeet– Dr. Mark Boetel\,\nNDSU\n9:40 – 10:25 Weed control in sugarbeet – Dr. Thomas Peters\, NDSU and\nUniversity of Minnesota\n10:25 – 10:40 Refreshments\n10:40 – 11:15 Management of Major Sugarbeet Diseases – Dr. Ashok\nChanda\, University of Minnesota\n11:15 – 11:30 CLS epidemiology: Investigating CLS infection and fungicide\nresistance during the growing season. Nathan Wyatt\n11:30 – 12:05 Effective and Economic Management of Cercospora Leaf Spot\nDr. Mohamed Khan\, NDSU & University of Minnesota\n12:00 Program Evaluation\nLunch at Fargo Holiday Inn Sponsored by: Sumitomo Corporation of Americas\nLunch at Alerus Center sponsored by: AMVAC\nLunch at Grafton (Frosty Fox) sponsored by: AMVAC\nRefreshments sponsored by: SesVanderhave
URL:https://www.sbreb.org/event/grand-forks-growers-seminar-winter-2023/
LOCATION:Alerus Center\, 1200 S 42nd St.\, Grand Forks\, ND\, 58201\, United States
CATEGORIES:Growers Seminar
END:VEVENT
BEGIN:VEVENT
DTSTART;TZID=America/Chicago:20230209T083000
DTEND;TZID=America/Chicago:20230209T123000
DTSTAMP:20260423T065936
CREATED:20221025T133016Z
LAST-MODIFIED:20230203T211020Z
UID:6479-1675931400-1675945800@www.sbreb.org
SUMMARY:Grafton Growers Seminar Winter 2023
DESCRIPTION:Grafton Growers Seminar\, Frosty Fox\, Grafton\, February 9\, 2023\, 8:30AM. \n2023 ACSC Growers’ Seminars\nFargo\, Holiday Inn – February 1\, 2023\nGrand Forks\, Alerus Center – February 7\, 2023\nGrafton\, Frosty Fox – February 9\, 2023\nPlease note starting time will be 8:30 a.m.\nTopics and Speakers:\n8:30 – 9:10 Turning Point Survey\n9:10 – 9:40 Optimizing Insect Control in Sugarbeet– Dr. Mark Boetel\,\nNDSU\n9:40 – 10:25 Weed control in sugarbeet – Dr. Thomas Peters\, NDSU and\nUniversity of Minnesota\n10:25 – 10:40 Refreshments\n10:40 – 11:15 Management of Major Sugarbeet Diseases – Dr. Ashok\nChanda\, University of Minnesota\n11:15 – 11:30 CLS epidemiology: Investigating CLS infection and fungicide\nresistance during the growing season. Nathan Wyatt\n11:30 – 12:05 Effective and Economic Management of Cercospora Leaf Spot\nDr. Mohamed Khan\, NDSU & University of Minnesota\n12:00 Program Evaluation\nLunch at Fargo Holiday Inn Sponsored by: Sumitomo Corporation of Americas\nLunch at Alerus Center sponsored by: AMVAC\nLunch at Grafton (Frosty Fox) sponsored by: AMVAC\nRefreshments sponsored by: SesVanderhave
URL:https://www.sbreb.org/event/grafton-growers-seminar-winter-2023/
LOCATION:Frosty Fox\, 43 E 8th St\, Grafton\, 58237
CATEGORIES:Growers Seminar
END:VEVENT
BEGIN:VEVENT
DTSTART;VALUE=DATE:20230315
DTEND;VALUE=DATE:20230317
DTSTAMP:20260423T065936
CREATED:20221025T142647Z
LAST-MODIFIED:20230203T202626Z
UID:6482-1678838400-1679011199@www.sbreb.org
SUMMARY:International Sugarbeet Institute (ISBI) Seminar March 2023
DESCRIPTION:International Sugarbeet Institute (ISBI)\, March 15 and 16\, 2023\, Fargodome\, Fargo\, ND.
URL:https://www.sbreb.org/event/international-sugarbeet-institute-march-2023/
LOCATION:Fargodome\, 1800 N University Dr.\, Fargo\, ND\, 58102\, United States
CATEGORIES:Growers Seminar
END:VEVENT
BEGIN:VEVENT
DTSTART;TZID=America/Chicago:20230316T083000
DTEND;TZID=America/Chicago:20230317T150000
DTSTAMP:20260423T065936
CREATED:20230203T210150Z
LAST-MODIFIED:20230203T210647Z
UID:6515-1678955400-1679065200@www.sbreb.org
SUMMARY:MDFC Production Seminar Save the Date 2023
DESCRIPTION:You are invited to the Minn-Dak Farmers Cooperative Sugarbeet Production Seminar\non February 16\, 2023\, at the Wahpeton Event Center. Rolls and coffee will be served at\n8:30 a.m.\, with presentations given by MDFC Ag & Research Staff\, USDA-ARS scientists\,\nand Extension personnel from North Dakota State University and University of\nMinnesota starting at 9:00 a.m.; a lunch will be served. A complete agenda will be sent\nat a later date. CEUs for Certified Crop Advisors will be available. Please contact Emma\nBurt at eburt@mdf.coop if you have any questions.\nMinn-Dak Farmers Cooperative\nSugarbeet Production Seminar\nThursday\, February 16\, 2023\n8:30 AM – 3:00 PM\nWahpeton Event Center\nWahpeton\, ND
URL:https://www.sbreb.org/event/international-sugarbeet-institute-march-2023-2/
LOCATION:Fargodome\, 1800 N University Dr.\, Fargo\, ND\, 58102\, United States
CATEGORIES:Growers Seminar
END:VEVENT
BEGIN:VEVENT
DTSTART;TZID=America/Chicago:20240125T080000
DTEND;TZID=America/Chicago:20240125T153000
DTSTAMP:20260423T065936
CREATED:20240123T150626Z
LAST-MODIFIED:20240123T150626Z
UID:6619-1706169600-1706196600@www.sbreb.org
SUMMARY:SMBSC Production Seminar
DESCRIPTION:Southern Minnesota Beet Sugar Cooperative Production Seminar on Thursday\, January 25\, 2024 at the Willmar Best Western Conference Center. Registration is from 8:15 to 8:30 AM. Lunch is from 12:15 to 1:10 PM. Closing remarks are from 3:10 to 3:15 PM.
URL:https://www.sbreb.org/event/smbsc-production-seminar/
LOCATION:Willmar Conference Center\, 240 23rd St SE\, Willmar\, MN\, 56201\, United States
CATEGORIES:Sugarbeet Winter Meeting
END:VEVENT
BEGIN:VEVENT
DTSTART;TZID=America/Chicago:20240206T083000
DTEND;TZID=America/Chicago:20240206T120000
DTSTAMP:20260423T065936
CREATED:20240123T145517Z
LAST-MODIFIED:20240123T145517Z
UID:6610-1707208200-1707220800@www.sbreb.org
SUMMARY:ACSC Sugarbeet Growers Seminar in Fargo
DESCRIPTION:NDSU Schedules ACSC Sugarbeet Growers Seminars for February 6th\, 2024 \nSugarbeet growers will have an opportunity to learn more about diseases\, weeds\, and insect pests during seminars North Dakota State University is hosting on February 6\, 13\, and 20. All Growers’ Seminars will begin at 8:30 AM. \nSeminar schedule: \n\nTuesday\, Feb. 6 – American Crystal Sugar Co. seminar for growers at the Holiday Inn\, Fargo.\nTuesday\, Feb. 13 – American Crystal Sugar Co. seminar for growers at the Alerus Center\, Grand Forks.\nTuesday\, Feb. 20 – American Crystal Sugar Co. seminar for growers at the Grafton Armory\, Grafton.\n\nThe presenters and topics that they will cover are: \n\nDr. Mark Boetel\, NDSU – Insect Control Challenges and Solutions\nDr. Thomas Peters\, NDSU & University of Minnesota – Weed Control in Sugarbeets\nDr. Ashok Chanda\, University of Minnesota – Sugarbeet Disease Management\nDr. Nathan Wyatt\, USDA-ARS – Cercospora Leaf Spot Epidemiology\nDr. Eric Branch\, NDSU & University of Minnesota – Plant Pathology and Future Directions\n\n 
URL:https://www.sbreb.org/event/acsc-sugarbeet-growers-seminar-feb-6/
LOCATION:Holiday Inn\, Fargo\, ND\, 58103\, United States
CATEGORIES:Growers Seminar
END:VEVENT
BEGIN:VEVENT
DTSTART;TZID=America/Chicago:20240213T083000
DTEND;TZID=America/Chicago:20240213T120000
DTSTAMP:20260423T065936
CREATED:20240123T145641Z
LAST-MODIFIED:20240213T214712Z
UID:6612-1707813000-1707825600@www.sbreb.org
SUMMARY:ACSC Sugarbeet Growers Seminar in Grand Forks
DESCRIPTION:NDSU Schedules ACSC Sugarbeet Growers Seminars for February 13th\, 2024 \nSugarbeet growers will have an opportunity to learn more about diseases\, weeds\, and insect pests during seminars North Dakota State University is hosting on February 6\, 13\, and 20. All Growers’ Seminars will begin at 8:30 AM. \nSeminar schedule: \n\nTuesday\, Feb. 6 – American Crystal Sugar Co. seminar for growers at the Holiday Inn\, Fargo.\nTuesday\, Feb. 13 – American Crystal Sugar Co. seminar for growers at the Alerus Center\, Grand Forks.\nTuesday\, Feb. 20 – American Crystal Sugar Co. seminar for growers at the Grafton Armory\, Grafton.\n\nThe presenters and topics that they will cover are: \n\nDr. Mark Boetel\, NDSU – Insect Control Challenges and Solutions\nDr. Thomas Peters\, NDSU & University of Minnesota – Weed Control in Sugarbeets\nDr. Ashok Chanda\, University of Minnesota – Sugarbeet Disease Management\nDr. Nathan Wyatt\, USDA-ARS – Cercospora Leaf Spot Epidemiology\nDr. Eric Branch\, NDSU & University of Minnesota – Plant Pathology and Future Directions\n\n 
URL:https://www.sbreb.org/event/acsc-sugarbeet-growers-seminar-feb-13/
LOCATION:Alerus Center\, 1200 S 42nd St.\, Grand Forks\, ND\, 58201\, United States
CATEGORIES:Growers Seminar
END:VEVENT
BEGIN:VEVENT
DTSTART;TZID=America/Chicago:20240220T083000
DTEND;TZID=America/Chicago:20240220T120000
DTSTAMP:20260423T065936
CREATED:20240123T145745Z
LAST-MODIFIED:20240213T214650Z
UID:6614-1708417800-1708430400@www.sbreb.org
SUMMARY:ACSC Sugarbeet Growers Seminar in Grafton
DESCRIPTION:NDSU Schedules ACSC Sugarbeet Growers Seminars for February 20th\, 2024 \nSugarbeet growers will have an opportunity to learn more about diseases\, weeds\, and insect pests during seminars North Dakota State University is hosting on February 6\, 13\, and 20. All Growers’ Seminars will begin at 8:30 AM. \nSeminar schedule: \n\nTuesday\, Feb. 6 – American Crystal Sugar Co. seminar for growers at the Holiday Inn\, Fargo.\nTuesday\, Feb. 13 – American Crystal Sugar Co. seminar for growers at the Alerus Center\, Grand Forks.\nTuesday\, Feb. 20 – American Crystal Sugar Co. seminar for growers at the Grafton Armory\, Grafton.\n\nThe presenters and topics that they will cover are: \n\nDr. Mark Boetel\, NDSU – Insect Control Challenges and Solutions\nDr. Thomas Peters\, NDSU & University of Minnesota – Weed Control in Sugarbeets\nDr. Ashok Chanda\, University of Minnesota – Sugarbeet Disease Management\nDr. Nathan Wyatt\, USDA-ARS – Cercospora Leaf Spot Epidemiology\nDr. Eric Branch\, NDSU & University of Minnesota – Plant Pathology and Future Directions\n\n 
URL:https://www.sbreb.org/event/acsc-sugarbeet-growers-seminar-feb-20/
LOCATION:Grafton Armory\, 309 Hill Ave\, Grafton\, ND\, 58237\, United States
CATEGORIES:Growers Seminar
END:VEVENT
BEGIN:VEVENT
DTSTART;TZID=America/Chicago:20250114T080000
DTEND;TZID=America/Chicago:20250114T160000
DTSTAMP:20260423T065936
CREATED:20241118T170457Z
LAST-MODIFIED:20241118T170457Z
UID:6899-1736841600-1736870400@www.sbreb.org
SUMMARY:Sugarbeet Research Reporting Session
DESCRIPTION:The Sugarbeet Research Reporting Session is Tuesday\, January 14\, 2025\, at the Hilton Garden Inn in Fargo\, ND
URL:https://www.sbreb.org/event/sugarbeet-research-reporting-session/
LOCATION:Hilton Garden Inn\, 4351 17th Ave S\, Fargo\, ND\, 58103\, United States
CATEGORIES:Research Reporting
END:VEVENT
BEGIN:VEVENT
DTSTART;VALUE=DATE:20250206
DTEND;VALUE=DATE:20250207
DTSTAMP:20260423T065936
CREATED:20241118T171141Z
LAST-MODIFIED:20241118T191152Z
UID:6902-1738800000-1738886399@www.sbreb.org
SUMMARY:Grand Forks Growers Seminar
DESCRIPTION:NDSU Schedules Sugarbeet Growers Seminars for February 6th\, 2024 \nSugarbeet growers will have an opportunity to learn more about diseases\, weeds\, and insect pests during seminars North Dakota State University is hosting on February 6\, 11\, and 13. All Growers’ Seminars will begin at 8:30 AM. \nSeminar schedule: \n\nTuesday\, Feb. 6 – seminar for growers at the Alerus Center\, Grand Forks\nTuesday\, Feb. 11 – seminar for growers at the Hilton Garden Inn\, Fargo.\nTuesday\, Feb. 13 – seminar for growers at the Grafton Armory\, Grafton.\n\n 
URL:https://www.sbreb.org/event/grand-forks-growers-seminar-2/
LOCATION:Alerus Center\, 1200 S 42nd St.\, Grand Forks\, ND\, 58201\, United States
CATEGORIES:Growers Seminar
END:VEVENT
BEGIN:VEVENT
DTSTART;VALUE=DATE:20250211
DTEND;VALUE=DATE:20250212
DTSTAMP:20260423T065936
CREATED:20241118T171406Z
LAST-MODIFIED:20241118T191108Z
UID:6904-1739232000-1739318399@www.sbreb.org
SUMMARY:Fargo Growers Seminar
DESCRIPTION:NDSU Schedules Sugarbeet Growers Seminars for February 11th\, 2024 \nSugarbeet growers will have an opportunity to learn more about diseases\, weeds\, and insect pests during seminars North Dakota State University is hosting on February 6\, 11\, and 13. All Growers’ Seminars will begin at 8:30 AM. \nSeminar schedule: \n\nTuesday\, Feb. 6 – seminar for growers at the Alerus Center\, Grand Forks\nTuesday\, Feb. 11 – seminar for growers at the Hilton Garden Inn\, Fargo.\nTuesday\, Feb. 13 – seminar for growers at the Grafton Armory\, Grafton.\n\n 
URL:https://www.sbreb.org/event/fargo-growers-seminar-2/
LOCATION:Hilton Garden Inn\, 4351 17th Ave S\, Fargo\, ND\, 58103\, United States
CATEGORIES:Growers Seminar
END:VEVENT
BEGIN:VEVENT
DTSTART;VALUE=DATE:20250213
DTEND;VALUE=DATE:20250214
DTSTAMP:20260423T065936
CREATED:20241118T171606Z
LAST-MODIFIED:20241118T191023Z
UID:6906-1739404800-1739491199@www.sbreb.org
SUMMARY:Grafton Growers Seminar
DESCRIPTION:NDSU Schedules Sugarbeet Growers Seminars for February 13th\, 2024 \nSugarbeet growers will have an opportunity to learn more about diseases\, weeds\, and insect pests during seminars North Dakota State University is hosting on February 6\, 11\, and 13. All Growers’ Seminars will begin at 8:30 AM. \nSeminar schedule: \n\nTuesday\, Feb. 6 – seminar for growers at the Alerus Center\, Grand Forks\nTuesday\, Feb. 11 – seminar for growers at the Hilton Garden Inn\, Fargo.\nTuesday\, Feb. 13 – seminar for growers at the Grafton Armory\, Grafton.\n\n 
URL:https://www.sbreb.org/event/grafton-growers-seminar-2/
LOCATION:Grafton Armory\, 309 Hill Ave\, Grafton\, ND\, 58237\, United States
CATEGORIES:Growers Seminar
END:VEVENT
BEGIN:VEVENT
DTSTART;TZID=America/Chicago:20250806T100000
DTEND;TZID=America/Chicago:20250806T120000
DTSTAMP:20260423T065936
CREATED:20250729T183041Z
LAST-MODIFIED:20250804T134054Z
UID:7006-1754474400-1754481600@www.sbreb.org
SUMMARY:Sugarbeet Weed and Disease Management Research at Prosper
DESCRIPTION:The Sugarbeet Weed and Disease Management Research at Prosper Plot Tour is August 6th\, 2025\, at the NDSU Prosper Research Site. \nWhen: August 6th\, 10:00 am – 12:00 pm\nWhere: NDSU Prosper Research Site\nGPS location: 47.001369\, -97.112479\nLunch: Lunch provided\nWeather: Canceled if poor weather
URL:https://www.sbreb.org/event/sugarbeet-weed-and-disease-management-research-at-prosper/
LOCATION:NDSU Prosper Research Site\, 2830 160th Ave SE\, Casselton\, 58012\, United States
CATEGORIES:Sugarbeet Plot Tour
END:VEVENT
BEGIN:VEVENT
DTSTART;TZID=America/Chicago:20250806T100000
DTEND;TZID=America/Chicago:20250806T120000
DTSTAMP:20260423T065936
CREATED:20250729T183444Z
LAST-MODIFIED:20250804T134138Z
UID:7010-1754474400-1754481600@www.sbreb.org
SUMMARY:CLS Management Plot Tours at Foxhome
DESCRIPTION:The CLS Management Plot Tours at Foxhome is August 28th\, 2025\, at Foxhome\, MN \nWhen: August 28th\, 10:00 am – 12:00 pm\nWhere: Foxhome\, MN\nGPS location: 46.311529\, -96.342504\nLunch: Lunch provided\nWeather: Moved to Foxhome Community Center if poor weather
URL:https://www.sbreb.org/event/cls-management-plot-tours-at-foxhome/
LOCATION:Foxhome\, MN
CATEGORIES:Sugarbeet Plot Tour
END:VEVENT
BEGIN:VEVENT
DTSTART;TZID=America/Chicago:20260113T080000
DTEND;TZID=America/Chicago:20260113T170000
DTSTAMP:20260423T065936
CREATED:20250804T134343Z
LAST-MODIFIED:20260112T173840Z
UID:7015-1768291200-1768323600@www.sbreb.org
SUMMARY:Sugarbeet Reporting Session
DESCRIPTION:The Sugarbeet Research Reporting Session is Tuesday\, January 13\, 2026\, at the Hilton Garden Inn in Fargo\, ND from 8a to 5p \nView the Meeting Agenda \n 
URL:https://www.sbreb.org/event/sugarbeet-reporting-session/
LOCATION:Hilton Garden Inn\, 4351 17th Ave S\, Fargo\, ND\, 58103\, United States
CATEGORIES:Research Reporting
END:VEVENT
BEGIN:VEVENT
DTSTART;VALUE=DATE:20260121
DTEND;VALUE=DATE:20260123
DTSTAMP:20260423T065936
CREATED:20251027T191043Z
LAST-MODIFIED:20251027T191043Z
UID:7066-1768953600-1769126399@www.sbreb.org
SUMMARY:International Sugarbeet & Dry Bean Expo
DESCRIPTION:January 21 – 22\, 2026\, Alerus Center\, Grand Forks\, ND\n\nNBGA’s Bean Day and the International Sugarbeet Institute (previously held in March) have combined forces to bring everyone the best one-stop conference for Sugarbeet & Dry Bean growers – first time ever!
URL:https://www.sbreb.org/event/international-sugarbeet-dry-bean-expo/
LOCATION:Alerus Center\, 1200 S 42nd St.\, Grand Forks\, ND\, 58201\, United States
CATEGORIES:Growers Seminar
END:VEVENT
BEGIN:VEVENT
DTSTART;TZID=America/Chicago:20260203T083000
DTEND;TZID=America/Chicago:20260203T120000
DTSTAMP:20260423T065936
CREATED:20251027T190102Z
LAST-MODIFIED:20251027T204524Z
UID:7057-1770107400-1770120000@www.sbreb.org
SUMMARY:Grand Forks Growers Seminar 2026
DESCRIPTION:NDSU Schedules Sugarbeet Growers Seminars for February 3rd\, 2026 \nSugarbeet growers will have an opportunity to learn more about diseases\, weeds\, and insect pests during seminars North Dakota State University is hosting on February 3\, 10\, and 17. All Growers’ Seminars will begin at 8:30 AM and end at Noon. Lunch provided after seminars. \nSeminar schedule: \n\nTuesday\, Feb. 3 – seminar for growers at the Alerus Center\, Grand Forks\nTuesday\, Feb. 10 – seminar for growers at the Grafton Armory\, Grafton.\nTuesday\, Feb. 17 – seminar for growers at the DoubleTree\, West Fargo.\n\n 
URL:https://www.sbreb.org/event/grand-forks-growers-seminar-2026/
LOCATION:Alerus Center\, 1200 S 42nd St.\, Grand Forks\, ND\, 58201\, United States
CATEGORIES:Growers Seminar
END:VEVENT
BEGIN:VEVENT
DTSTART;TZID=America/Chicago:20260210T083000
DTEND;TZID=America/Chicago:20260210T120000
DTSTAMP:20260423T065936
CREATED:20251027T190711Z
LAST-MODIFIED:20251027T204556Z
UID:7064-1770712200-1770724800@www.sbreb.org
SUMMARY:Grafton Growers Seminar 2026
DESCRIPTION:NDSU Schedules Sugarbeet Growers Seminars for February 10th\, 2026 \nSugarbeet growers will have an opportunity to learn more about diseases\, weeds\, and insect pests during seminars North Dakota State University is hosting on February 3\, 10\, and 17. All Growers’ Seminars will begin at 8:30 AM and end at Noon. Lunch provided after seminars. \nSeminar schedule: \n\nTuesday\, Feb. 3 – seminar for growers at the Alerus Center\, Grand Forks\nTuesday\, Feb. 10 – seminar for growers at the Grafton Armory\, Grafton.\nTuesday\, Feb. 17 – seminar for growers at the DoubleTree\, West Fargo.\n\n 
URL:https://www.sbreb.org/event/grafton-growers-seminar-2026/
LOCATION:Grafton Armory\, 309 Hill Ave\, Grafton\, ND\, 58237\, United States
CATEGORIES:Growers Seminar
END:VEVENT
BEGIN:VEVENT
DTSTART;TZID=America/Chicago:20260217T083000
DTEND;TZID=America/Chicago:20260217T120000
DTSTAMP:20260423T065936
CREATED:20251027T190341Z
LAST-MODIFIED:20251027T204707Z
UID:7060-1771317000-1771329600@www.sbreb.org
SUMMARY:Fargo Growers Seminar 2026
DESCRIPTION:NDSU Schedules Sugarbeet Growers Seminars for February 17th\, 2026 \nSugarbeet growers will have an opportunity to learn more about diseases\, weeds\, and insect pests during seminars North Dakota State University is hosting on February 3\, 10\, and 17. All Growers’ Seminars will begin at 8:30 AM and end at Noon. Lunch provided after seminars. \nSeminar schedule: \n\nTuesday\, Feb. 3 – seminar for growers at the Alerus Center\, Grand Forks\nTuesday\, Feb. 10 – seminar for growers at the Grafton Armory\, Grafton.\nTuesday\, Feb. 17 – seminar for growers at the DoubleTree\, West Fargo.\n\n 
URL:https://www.sbreb.org/event/fargo-growers-seminar-2026/
LOCATION:DoubleTree by Hilton\, 825 E Beaton Dr\, West Fargo\, 58078\, United States
CATEGORIES:Growers Seminar
END:VEVENT
END:VCALENDAR