BEGIN:VCALENDAR
VERSION:2.0
PRODID:-//The Sugarbeet Research and Education Board of Minnesota and North Dakota - ECPv6.15.20//NONSGML v1.0//EN
CALSCALE:GREGORIAN
METHOD:PUBLISH
X-WR-CALNAME:The Sugarbeet Research and Education Board of Minnesota and North Dakota
X-ORIGINAL-URL:https://www.sbreb.org
X-WR-CALDESC:Events for The Sugarbeet Research and Education Board of Minnesota and North Dakota
REFRESH-INTERVAL;VALUE=DURATION:PT1H
X-Robots-Tag:noindex
X-PUBLISHED-TTL:PT1H
BEGIN:VTIMEZONE
TZID:UTC
BEGIN:STANDARD
TZOFFSETFROM:+0000
TZOFFSETTO:+0000
TZNAME:UTC
DTSTART:20180101T000000
END:STANDARD
END:VTIMEZONE
BEGIN:VTIMEZONE
TZID:America/Chicago
BEGIN:DAYLIGHT
TZOFFSETFROM:-0600
TZOFFSETTO:-0500
TZNAME:CDT
DTSTART:20190310T080000
END:DAYLIGHT
BEGIN:STANDARD
TZOFFSETFROM:-0500
TZOFFSETTO:-0600
TZNAME:CST
DTSTART:20191103T070000
END:STANDARD
BEGIN:DAYLIGHT
TZOFFSETFROM:-0600
TZOFFSETTO:-0500
TZNAME:CDT
DTSTART:20200308T080000
END:DAYLIGHT
BEGIN:STANDARD
TZOFFSETFROM:-0500
TZOFFSETTO:-0600
TZNAME:CST
DTSTART:20201101T070000
END:STANDARD
BEGIN:DAYLIGHT
TZOFFSETFROM:-0600
TZOFFSETTO:-0500
TZNAME:CDT
DTSTART:20210314T080000
END:DAYLIGHT
BEGIN:STANDARD
TZOFFSETFROM:-0500
TZOFFSETTO:-0600
TZNAME:CST
DTSTART:20211107T070000
END:STANDARD
BEGIN:DAYLIGHT
TZOFFSETFROM:-0600
TZOFFSETTO:-0500
TZNAME:CDT
DTSTART:20220313T080000
END:DAYLIGHT
BEGIN:STANDARD
TZOFFSETFROM:-0500
TZOFFSETTO:-0600
TZNAME:CST
DTSTART:20221106T070000
END:STANDARD
BEGIN:DAYLIGHT
TZOFFSETFROM:-0600
TZOFFSETTO:-0500
TZNAME:CDT
DTSTART:20230312T080000
END:DAYLIGHT
BEGIN:STANDARD
TZOFFSETFROM:-0500
TZOFFSETTO:-0600
TZNAME:CST
DTSTART:20231105T070000
END:STANDARD
END:VTIMEZONE
BEGIN:VEVENT
DTSTART;TZID=UTC:20190716T100000
DTEND;TZID=UTC:20190716T130000
DTSTAMP:20260423T051256
CREATED:20190624T162546Z
LAST-MODIFIED:20190624T162633Z
UID:6044-1563271200-1563282000@www.sbreb.org
SUMMARY:Sugarbeet Plot Tour - Ada\, MN - Cover Crop inter-seeding in sugarbeet production. Stand loss effect on sugarbeet yield
DESCRIPTION:Location:\nAda\, MN \nTitle:\nCover Crop inter-seeding in sugarbeet production. Stand loss effect on sugarbeet yield \nDirections:  \n(Ada – GPS: N  47°18’28.10”  W  96°22’52.63”) \nFrom Fargo head North via Hwy 75N \n\nTurn right/east on 200E to reach Ada\nContinue on 200E through ADA to Norman County 24\nTurn left on 24 and proceed north and then east\nTake the gravel road\n\nExperiments are on the south side of the road
URL:https://www.sbreb.org/event/root-maggot-control-july19-2/
CATEGORIES:Sugarbeet Plot Tour
END:VEVENT
BEGIN:VEVENT
DTSTART;TZID=UTC:20190717T120000
DTEND;TZID=UTC:20190717T130000
DTSTAMP:20260423T051256
CREATED:20190624T162910Z
LAST-MODIFIED:20190624T162910Z
UID:6049-1563364800-1563368400@www.sbreb.org
SUMMARY:Sugarbeet Plot Tour - Crookston\, MN - Managing diseases and nutrients in sugarbeet. Ethofumesate POST tolerance at rates up to 8 pints per acre. Acifluorfen tolerance in sugarbeet.
DESCRIPTION:Location:\nCrookston\, MN \nTitle:\nManaging diseases and nutrients in sugarbeet. Ethofumesate POST tolerance at rates up to 8 pints per acre. Acifluorfen tolerance in sugarbeet. \nDirections:\nThe field day will be held at the NWROC’s North Farm\, located one mile north of the University of Minnesota Crookston campus on Highway 75 North. \nComplimentary Lunch Served from noon to 1:00 PM
URL:https://www.sbreb.org/event/root-maggot-control-july19-2-2/
CATEGORIES:Sugarbeet Plot Tour
END:VEVENT
BEGIN:VEVENT
DTSTART;TZID=UTC:20190718T062500
DTEND;TZID=UTC:20190718T073000
DTSTAMP:20260423T051256
CREATED:20190429T144509Z
LAST-MODIFIED:20190429T145457Z
UID:6006-1563431100-1563435000@www.sbreb.org
SUMMARY:Industry Challenges - Sugarbeet Radio
DESCRIPTION:Presenter:\nDuane Maatz\nExec Dir\, RRVSBGA\nOffice: 701-239-4151\nCell: 701-261-1959 \nTopic:\nIndustry Challenges \nReport Airs:\n\n6:25 a.m. on KBRF AM 1250\n6:40 a.m. on KJJK FM 96.5\nFridays at 7:30 a.m. on KFGO\nFridays and Mondays on KQLX/890AM and Thunder 106.1\n\nAccess Report:\nhttps://www.ag.ndsu.edu/sugarbeetreport
URL:https://www.sbreb.org/event/industry-challenges-sugarbeet-radio/
CATEGORIES:Radio Schedule
END:VEVENT
BEGIN:VEVENT
DTSTART;TZID=UTC:20190718T100000
DTEND;TZID=UTC:20190718T130000
DTSTAMP:20260423T051256
CREATED:20190624T163118Z
LAST-MODIFIED:20190624T163118Z
UID:6051-1563444000-1563454800@www.sbreb.org
SUMMARY:Sugarbeet Plot Tour - St. Thomas\, ND –  Root Maggot Research (An update on root maggot populations and field tour)
DESCRIPTION:Location:\nSt. Thomas\, ND \nTitle:\nRoot Maggot Research. – An update on root maggot populations and field tour \nDirections:\n \n(GPS:  48°33’52.16”N  97°26’53.99”W) \nImmediately S. of former Pete Carson farmstead. Approach field from US 81). No traffic through farmstead or from field road to west of plots please! \nFrom St. Thomas: S. on US 81 2.5 mi. to ND Hwy 66/US 81 intersection; South ½ mi. to field approach S. of farmstead; plots are on W. side of highway 81. \nFrom Drayton: Exit (#187) on I-29; West 12 mi. to ND Hwy 66/US 81 intersection; South ½ mi. to field approach S. of farmstead;; plots are on W. side of highway 81. \nFrom Grafton – North 10 mi. on US 81; plots are on W. side of highway 81. \nLunch sponsored by Bayer Crop Science
URL:https://www.sbreb.org/event/root-maggot-control-july19-2-2-2/
CATEGORIES:Sugarbeet Plot Tour
END:VEVENT
BEGIN:VEVENT
DTSTART;VALUE=DATE:20190724
DTEND;VALUE=DATE:20190725
DTSTAMP:20260423T051256
CREATED:20190624T163453Z
LAST-MODIFIED:20190624T163453Z
UID:6053-1563926400-1564012799@www.sbreb.org
SUMMARY:SBREB Annual Summer Meeting & Tour\, Fargo\, ND
DESCRIPTION:Location:\nFargo. ND \nTitle:\nSBREB Annual Summer Meeting & Tour\, Fargo\, ND
URL:https://www.sbreb.org/event/root-maggot-control-july19-2-2-2-2/
CATEGORIES:Sugarbeet Plot Tour
END:VEVENT
BEGIN:VEVENT
DTSTART;TZID=UTC:20190725T062500
DTEND;TZID=UTC:20190725T073000
DTSTAMP:20260423T051256
CREATED:20190429T144605Z
LAST-MODIFIED:20190429T145501Z
UID:6008-1564035900-1564039800@www.sbreb.org
SUMMARY:Crop Progress: SMBSC Southern Minnesota - Sugarbeet Radio
DESCRIPTION:Presenter:\nTodd Geselius\nVP Agriculture\, SMBSC\nOffice: 320-329-4170\nCell: 320-329-4170 \nTopic:\nCrop Progress: SMBSC Southern Minnesota \nReport Airs:\n\n6:25 a.m. on KBRF AM 1250\n6:40 a.m. on KJJK FM 96.5\nFridays at 7:30 a.m. on KFGO\nFridays and Mondays on KQLX/890AM and Thunder 106.1\n\nAccess Report:\nhttps://www.ag.ndsu.edu/sugarbeetreport
URL:https://www.sbreb.org/event/crop-progress-smbsc-southern-minnesota-sugarbeet-radio/
CATEGORIES:Radio Schedule
END:VEVENT
BEGIN:VEVENT
DTSTART;TZID=UTC:20190725T100000
DTEND;TZID=UTC:20190725T130000
DTSTAMP:20260423T051256
CREATED:20190624T163633Z
LAST-MODIFIED:20190624T163633Z
UID:6055-1564048800-1564059600@www.sbreb.org
SUMMARY:Sugarbeet Plot Tour - Moorhead\, MN - Waterhemp control in sugarbeet and soybean
DESCRIPTION:Location:\nMoorhead\, MN \nTitle:\nWaterhemp control in sugarbeet and soybean \nDirections:\n \nFrom intersection of US Hwy 75 and 15th Ave N: \n\nWest 0.5 mile on 15th Ave N\nNorth at 14th St into school bus parking lot\nPlots on North side of trees (East side of Crystal Beet Seed Facility)\n\n°     GPS:  46°53’31.5″N 96°45’20.0″W \nLunch Sponsored by Betaseed
URL:https://www.sbreb.org/event/root-maggot-control-july19-2-2-2-3/
CATEGORIES:Sugarbeet Plot Tour
END:VEVENT
BEGIN:VEVENT
DTSTART;TZID=UTC:20190730T100000
DTEND;TZID=UTC:20190730T120000
DTSTAMP:20260423T051256
CREATED:20190624T163828Z
LAST-MODIFIED:20190624T163828Z
UID:6057-1564480800-1564488000@www.sbreb.org
SUMMARY:Sugarbeet Plot Tour - Prosper\, ND- Sugarbeet tolerance to ethofumesate and acifluorfen; sugarbeet tolerance in a waterhemp weed management system; crop safety of 1-pass insecticide/fungicide combinations; cover crop inter-seeding in sugarbeet production.
DESCRIPTION:Location:\nProsper\, ND \nTitle:\nSugarbeet tolerance to ethofumesate and acifluorfen; sugarbeet tolerance in a waterhemp weed management system; crop safety of 1-pass insecticide/fungicide combinations; cover crop inter-seeding in sugarbeet production. \nDirections:\n \nFrom Fargo\, travel north on I-29 to the Harwood exit. \n\n-Turn right/travel east 0.3 miles past Harwood gas station and across train tracks until four way stop at Old Hwy 81.\n-Turn left/North onto Old Hwy 81 and travel 2.3 miles to Cty Hwy 32\n-Turn left/West onto Cty Hwy 32 and travel west for 9.8 miles (note sign for Prosper Station on left)\n-Turn left/south for about 0.5 mile\n-Look for the signs\nGPS: 47°00’05″N 97°06’47″W
URL:https://www.sbreb.org/event/root-maggot-control-july19-2-2-2-3-2/
CATEGORIES:Sugarbeet Plot Tour
END:VEVENT
BEGIN:VEVENT
DTSTART;TZID=UTC:20190801T062500
DTEND;TZID=UTC:20190801T073000
DTSTAMP:20260423T051256
CREATED:20190429T144652Z
LAST-MODIFIED:20190429T145507Z
UID:6010-1564640700-1564644600@www.sbreb.org
SUMMARY:Crop Progress: ACSC American Crystal - Sugarbeet Radio
DESCRIPTION:Presenter:\nTyler Grove\nAgronomist\, ACSC\nOffice: 218-236-4318\nCell: 218-303-6931 \nTopic:\nCrop Progress: ACSC American Crystal \nReport Airs:\n\n6:25 a.m. on KBRF AM 1250\n6:40 a.m. on KJJK FM 96.5\nFridays at 7:30 a.m. on KFGO\nFridays and Mondays on KQLX/890AM and Thunder 106.1\n\nAccess Report:\nhttps://www.ag.ndsu.edu/sugarbeetreport
URL:https://www.sbreb.org/event/crop-progress-acsc-american-crystal-sugarbeet-radio/
CATEGORIES:Radio Schedule
END:VEVENT
BEGIN:VEVENT
DTSTART;TZID=UTC:20190808T062500
DTEND;TZID=UTC:20190808T073000
DTSTAMP:20260423T051256
CREATED:20190429T144801Z
LAST-MODIFIED:20190429T145511Z
UID:6012-1565245500-1565249400@www.sbreb.org
SUMMARY:Cercospora Leaf Spot Control - Sugarbeet Radio
DESCRIPTION:Presenter:\nMohamed Khan\nExt. SB Spec. NDSU/ U of M\nOffice: 701-231-8596\nCell: 218-790-8596 \nTopic:\nCercospora Leaf Spot Control \nReport Airs:\n\n6:25 a.m. on KBRF AM 1250\n6:40 a.m. on KJJK FM 96.5\nFridays at 7:30 a.m. on KFGO\nFridays and Mondays on KQLX/890AM and Thunder 106.1\n\nAccess Report:\nhttps://www.ag.ndsu.edu/sugarbeetreport
URL:https://www.sbreb.org/event/cercospora-leaf-spot-control-sugarbeet-radio/
CATEGORIES:Radio Schedule
END:VEVENT
BEGIN:VEVENT
DTSTART;TZID=UTC:20190815T062500
DTEND;TZID=UTC:20190815T073000
DTSTAMP:20260423T051256
CREATED:20190429T144844Z
LAST-MODIFIED:20190429T145515Z
UID:6014-1565850300-1565854200@www.sbreb.org
SUMMARY:Fall Tillage - Sugarbeet Radio
DESCRIPTION:Presenter:\nDavid Franzen\nExt. Soils Specialist/NDSU\nOffice: 701-231-8656\nCell: 701-799-2565 \nTopic:\nFall Tillage \nReport Airs:\n\n6:25 a.m. on KBRF AM 1250\n6:40 a.m. on KJJK FM 96.5\nFridays at 7:30 a.m. on KFGO\nFridays and Mondays on KQLX/890AM and Thunder 106.1\n\nAccess Report:\nhttps://www.ag.ndsu.edu/sugarbeetreport
URL:https://www.sbreb.org/event/fall-tillage-sugarbeet-radio/
CATEGORIES:Radio Schedule
END:VEVENT
BEGIN:VEVENT
DTSTART;TZID=UTC:20190822T062500
DTEND;TZID=UTC:20190822T073000
DTSTAMP:20260423T051256
CREATED:20190429T144928Z
LAST-MODIFIED:20190429T145519Z
UID:6016-1566455100-1566459000@www.sbreb.org
SUMMARY:Update on Sugarbeet Diseases - Sugarbeet Radio
DESCRIPTION:Presenter:\nMohamed Khan\nExt. SB Spec. NDSU/ U of M\nOffice: 701-231-8596\nCell: 218-790-8596 \nTopic:\nUpdate on Sugarbeet Diseases \nReport Airs:\n\n6:25 a.m. on KBRF AM 1250\n6:40 a.m. on KJJK FM 96.5\nFridays at 7:30 a.m. on KFGO\nFridays and Mondays on KQLX/890AM and Thunder 106.1\n\nAccess Report:\nhttps://www.ag.ndsu.edu/sugarbeetreport
URL:https://www.sbreb.org/event/update-on-sugarbeet-diseases-sugarbeet-radio/
CATEGORIES:Radio Schedule
END:VEVENT
BEGIN:VEVENT
DTSTART;TZID=UTC:20190829T062500
DTEND;TZID=UTC:20190829T073000
DTSTAMP:20260423T051256
CREATED:20190429T145008Z
LAST-MODIFIED:20190429T145523Z
UID:6018-1567059900-1567063800@www.sbreb.org
SUMMARY:Soil Testing & Sampling - Sugarbeet Radio
DESCRIPTION:Presenter:\nDavid Franzen\nExt. Soils Specialist/NDSU\nOffice: 701-231-8656\nCell: 701-799-2565 \nTopic:\nSoil Testing & Sampling \nReport Airs:\n\n6:25 a.m. on KBRF AM 1250\n6:40 a.m. on KJJK FM 96.5\nFridays at 7:30 a.m. on KFGO\nFridays and Mondays on KQLX/890AM and Thunder 106.1\n\nAccess Report:\nhttps://www.ag.ndsu.edu/sugarbeetreport
URL:https://www.sbreb.org/event/soil-testing-sampling-sugarbeet-radio/
CATEGORIES:Radio Schedule
END:VEVENT
BEGIN:VEVENT
DTSTART;TZID=UTC:20190905T062500
DTEND;TZID=UTC:20190905T073000
DTSTAMP:20260423T051256
CREATED:20190429T145048Z
LAST-MODIFIED:20190429T145528Z
UID:6020-1567664700-1567668600@www.sbreb.org
SUMMARY:Harvest Update - Sugarbeet Radio
DESCRIPTION:Presenter:\nMohamed Khan\nExt. SB Spec. NDSU/ U of M\nOffice: 701-231-8596\nCell: 218-790-8596 \nTopic:\nHarvest Update \nReport Airs:\n\n6:25 a.m. on KBRF AM 1250\n6:40 a.m. on KJJK FM 96.5\nFridays at 7:30 a.m. on KFGO\nFridays and Mondays on KQLX/890AM and Thunder 106.1\n\nAccess Report:\nhttps://www.ag.ndsu.edu/sugarbeetreport
URL:https://www.sbreb.org/event/harvest-update-sugarbeet-radio/
CATEGORIES:Radio Schedule
END:VEVENT
BEGIN:VEVENT
DTSTART;TZID=UTC:20190905T100000
DTEND;TZID=UTC:20190905T120000
DTSTAMP:20260423T051256
CREATED:20190624T163949Z
LAST-MODIFIED:20190624T163949Z
UID:6059-1567677600-1567684800@www.sbreb.org
SUMMARY:Sugarbeet Plot Tour - Foxhome\, MN - Controlling Cercospora leaf spot in sugarbeet
DESCRIPTION:Location:\nFoxhome\, MN \nTitle:\nControlling Cercospora leaf spot in sugarbeet \nDirections:\n \nFrom the intersection of Hwy 75 and 210 in Breckenridge \n\nEast 11.7 miles on Hwy 210\nTurn North on 310th Ave for 1 mile\nTurn West on grassy field approach\nIf you get to the tree row and old silo you went too far
URL:https://www.sbreb.org/event/root-maggot-control-july19-2-2-2-3-2-2/
CATEGORIES:Sugarbeet Plot Tour
END:VEVENT
BEGIN:VEVENT
DTSTART;TZID=America/Chicago:20200114T080000
DTEND;TZID=America/Chicago:20200114T160000
DTSTAMP:20260423T051256
CREATED:20181010T172145Z
LAST-MODIFIED:20191220T210819Z
UID:5619-1578988800-1579017600@www.sbreb.org
SUMMARY:Research Reporting Session
DESCRIPTION:Meeting Agenda: \n2020 SB Reporting Session Brochure
URL:https://www.sbreb.org/event/research-reporting-session/
LOCATION:Holiday Inn and Convention Center\, 3803 13th Avenue South\, Fargo\, ND\, 58103\, United States
CATEGORIES:Sugarbeet Winter Meeting
END:VEVENT
BEGIN:VEVENT
DTSTART;TZID=America/Chicago:20200122T080000
DTEND;TZID=America/Chicago:20200122T160000
DTSTAMP:20260423T051256
CREATED:20181010T172249Z
LAST-MODIFIED:20191113T175913Z
UID:5623-1579680000-1579708800@www.sbreb.org
SUMMARY:SMBSC Growers Seminar
DESCRIPTION:
URL:https://www.sbreb.org/event/smbsc-growers-seminar/
LOCATION:Willmar Conference Center\, 240 23rd St SE\, Willmar\, MN\, 56201\, United States
CATEGORIES:Sugarbeet Winter Meeting
END:VEVENT
BEGIN:VEVENT
DTSTART;TZID=America/Chicago:20200203T084500
DTEND;TZID=America/Chicago:20200203T121500
DTSTAMP:20260423T051256
CREATED:20181010T172510Z
LAST-MODIFIED:20191220T210948Z
UID:5626-1580719500-1580732100@www.sbreb.org
SUMMARY:Grand Forks Growers Seminar
DESCRIPTION:Meeting Agenda: \n2020 ACSC Growers Seminar
URL:https://www.sbreb.org/event/grand-forks-growers-seminar/
LOCATION:Alerus Center\, 1200 S 42nd St.\, Grand Forks\, ND\, 58201\, United States
CATEGORIES:Sugarbeet Winter Meeting
END:VEVENT
BEGIN:VEVENT
DTSTART;TZID=America/Chicago:20200204T084500
DTEND;TZID=America/Chicago:20200204T121500
DTSTAMP:20260423T051256
CREATED:20181010T172813Z
LAST-MODIFIED:20191220T211021Z
UID:5630-1580805900-1580818500@www.sbreb.org
SUMMARY:Fargo Growers Seminar
DESCRIPTION:Meeting Agenda: \n2020 ACSC Growers Seminar
URL:https://www.sbreb.org/event/fargo-growers-seminar/
LOCATION:Holiday Inn and Convention Center\, 3803 13th Avenue South\, Fargo\, ND\, 58103\, United States
CATEGORIES:Sugarbeet Winter Meeting
END:VEVENT
BEGIN:VEVENT
DTSTART;TZID=America/Chicago:20200206T084500
DTEND;TZID=America/Chicago:20200206T121500
DTSTAMP:20260423T051256
CREATED:20181010T173119Z
LAST-MODIFIED:20191113T180145Z
UID:5635-1580978700-1580991300@www.sbreb.org
SUMMARY:Grafton Growers Seminar
DESCRIPTION:
URL:https://www.sbreb.org/event/grafton-growers-seminar/
LOCATION:St. John’s Catholic Church Parish Center\, 1515 Western Ave\, Grafton\, ND\, 58237\, United States
CATEGORIES:Sugarbeet Winter Meeting
END:VEVENT
BEGIN:VEVENT
DTSTART;TZID=America/Chicago:20200220T084500
DTEND;TZID=America/Chicago:20200220T121500
DTSTAMP:20260423T051256
CREATED:20181010T172743Z
LAST-MODIFIED:20191220T210312Z
UID:5628-1582188300-1582200900@www.sbreb.org
SUMMARY:Minn-Dak Growers Seminar
DESCRIPTION:Meeting Agenda: \n2020 Minn-dak Growers Seminar
URL:https://www.sbreb.org/event/minn-dak-growers-seminar/
LOCATION:Wahpeton – Minn-Dak Farmers Cooperative\, 7525 Red River Road\, Wahpeton\, ND\, 58075\, United States
CATEGORIES:Sugarbeet Winter Meeting
END:VEVENT
BEGIN:VEVENT
DTSTART;TZID=America/Chicago:20200311T080000
DTEND;TZID=America/Chicago:20200311T160000
DTSTAMP:20260423T051256
CREATED:20181010T173213Z
LAST-MODIFIED:20191113T180416Z
UID:5637-1583913600-1583942400@www.sbreb.org
SUMMARY:ISBI Show - Day 1
DESCRIPTION:
URL:https://www.sbreb.org/event/isbi-show-day-1/
LOCATION:Alerus Center\, 1200 S 42nd St.\, Grand Forks\, ND\, 58201\, United States
CATEGORIES:Sugarbeet Winter Meeting
END:VEVENT
BEGIN:VEVENT
DTSTART;TZID=America/Chicago:20200312T080000
DTEND;TZID=America/Chicago:20200312T160000
DTSTAMP:20260423T051256
CREATED:20181010T173253Z
LAST-MODIFIED:20191113T180355Z
UID:5640-1584000000-1584028800@www.sbreb.org
SUMMARY:ISBI Show - Day 2
DESCRIPTION:
URL:https://www.sbreb.org/event/isbi-show-day-2/
LOCATION:Alerus Center\, 1200 S 42nd St.\, Grand Forks\, ND\, 58201\, United States
CATEGORIES:Sugarbeet Winter Meeting
END:VEVENT
BEGIN:VEVENT
DTSTART;TZID=America/Chicago:20210112T070000
DTEND;TZID=America/Chicago:20210112T170000
DTSTAMP:20260423T051256
CREATED:20210104T153612Z
LAST-MODIFIED:20210104T154013Z
UID:6241-1610434800-1610470800@www.sbreb.org
SUMMARY:Sugarbeet Research Reporting Sessions
DESCRIPTION:When: Jan 12\, 2021 07:00 AM Central Time (US and Canada) \n51st Annual Sugarbeet Research Reporting Session Brochure \nPlease click the link below to join the webinar:\nhttps://ndsu.zoom.us/j/91896357253?pwd=Ull2WDZqQ1hyb2NkdXk4a3d5TnpKZz09 \nPasscode: 009088 \nOr iPhone one-tap:\nUS: +16699006833\,\,91896357253# or +12532158782\,\,91896357253#\nOr Telephone:\nDial(for higher quality\, dial a number based on your current location):\nUS: +1 669 900 6833 or +1 253 215 8782 or +1 346 248 7799 or +1 929 436 2866 or +1 301 715 8592 or +1 312 626 6799\nWebinar ID: 918 9635 7253\nInternational numbers available: https://ndsu.zoom.us/u/abc3Y0cBeA \nOr an H.323/SIP room system:\nH.323:\n162.255.37.11 (US West)\n162.255.36.11 (US East)\n213.19.144.110 (Amsterdam Netherlands)\n213.244.140.110 (Germany)\n69.174.57.160 (Canada)\n207.226.132.110 (Japan)\nMeeting ID: 918 9635 7253\nPasscode: 009088\nSIP: 91896357253@zoomcrc.com\nPasscode: 009088
URL:https://www.sbreb.org/event/sugarbeet-research-reporting-sessions/
CATEGORIES:Research Reporting
END:VEVENT
BEGIN:VEVENT
DTSTART;TZID=America/Chicago:20210209T080000
DTEND;TZID=America/Chicago:20210209T120000
DTSTAMP:20260423T051256
CREATED:20210209T143846Z
LAST-MODIFIED:20210209T143846Z
UID:6261-1612857600-1612872000@www.sbreb.org
SUMMARY:Minn-Dak Farmers Cooperative Growers’ Seminars
DESCRIPTION:Register in advance for this meeting: https://ndsu.zoom.us/meeting/register/tJcqc-mupzIrGNDjFJpuJpN6m0UWmgHez6Pn \nAfter registering\, you will receive a confirmation email containing information about joining the meeting. \nPlease note starting time will be 8:30 a.m. \nTopics and Speakers: \n8:30 – 9:00 – Turning Point Survey\n9:00– 9:40 – Managing Rhizoctonia solani in sugarbeet – Dr. Ashok Chanda\, University of Minnesota\n9:40 – 10:20 – Strategies to manage Cercospora leaf spot of sugarbeet – Dr. Mohamed Khan\, NDSU and University of Minnesota.\n10:20 – 10:35 – Break\n10:35 – 11:05 – Weed control in sugarbeet – Dr. Thomas Peters\, NDSU and University of Minnesota\n11:05 – 11:45 – Optimizing Insect Control in Sugarbeet– Dr. Mark Boetel\, NDSU\n11:45 – Program Evaluation
URL:https://www.sbreb.org/event/minn-dak-farmers-cooperative-growers-seminars/
CATEGORIES:Growers Seminar
END:VEVENT
BEGIN:VEVENT
DTSTART;TZID=America/Chicago:20210210T083000
DTEND;TZID=America/Chicago:20210210T120000
DTSTAMP:20260423T051256
CREATED:20210209T143333Z
LAST-MODIFIED:20210209T143333Z
UID:6254-1612945800-1612958400@www.sbreb.org
SUMMARY:Grafton to Grand Forks ACSC Growers’ Seminars
DESCRIPTION:Register in advance for this meeting: https://ndsu.zoom.us/meeting/register/tJcqcOutpz8rHNwzAvWnM6qqJ2IImM1cdzIC \nPlease note starting time will be 8:30 a.m. \nTopics and Speakers:\n8:30 – 9:00 – Turning Point Survey\n9:00– 9:40 – Managing Rhizoctonia solani in sugarbeet – Dr. Ashok Chanda\, University of Minnesota\n9:40 – 10:20 – Strategies to manage Cercospora leaf spot of sugarbeet – Dr. Mohamed Khan\, NDSU and University of Minnesota.\n10:20 – 10:35 – Break\n10:35 – 11:05 – Weed control in sugarbeet – Dr. Thomas Peters\, NDSU and University of Minnesota\n11:05 – 11:45 – Optimizing Insect Control in Sugarbeet– Dr. Mark Boetel\, NDSU\n11:45 – Program Evaluation \n 
URL:https://www.sbreb.org/event/grafton-to-grand-forks-acsc-growers-seminars/
CATEGORIES:Growers Seminar
END:VEVENT
BEGIN:VEVENT
DTSTART;TZID=America/Chicago:20210211T083000
DTEND;TZID=America/Chicago:20210211T120000
DTSTAMP:20260423T051256
CREATED:20210209T143550Z
LAST-MODIFIED:20210209T143616Z
UID:6259-1613032200-1613044800@www.sbreb.org
SUMMARY:Hillsboro to Fargo ACSC Growers’ Seminars
DESCRIPTION:Register in advance for this meeting: https://ndsu.zoom.us/meeting/register/tJwpfuGoqzorHdz6QA52Rf474Z4MTL-3U7rK \nPlease note starting time will be 8:30 a.m. \nTopics and Speakers:\n8:30 – 9:00 – Turning Point Survey\n9:00– 9:40 – Managing Rhizoctonia solani in sugarbeet – Dr. Ashok Chanda\, University of Minnesota\n9:40 – 10:20 – Strategies to manage Cercospora leaf spot of sugarbeet – Dr. Mohamed Khan\, NDSU and University of Minnesota.\n10:20 – 10:35 – Break\n10:35 – 11:05 – Weed control in sugarbeet – Dr. Thomas Peters\, NDSU and University of Minnesota\n11:05 – 11:45 – Optimizing Insect Control in Sugarbeet– Dr. Mark Boetel\, NDSU\n11:45 – Program Evaluation \n 
URL:https://www.sbreb.org/event/grafton-to-grand-forks-acsc-growers-seminars-2/
CATEGORIES:Growers Seminar
END:VEVENT
BEGIN:VEVENT
DTSTART;TZID=America/Chicago:20220111T070000
DTEND;TZID=America/Chicago:20220111T170000
DTSTAMP:20260423T051256
CREATED:20211216T211209Z
LAST-MODIFIED:20220105T181048Z
UID:6299-1641884400-1641920400@www.sbreb.org
SUMMARY:52nd Annual Sugarbeet Research Reporting Sessions
DESCRIPTION:When: Jan 11\, 2022 07:00 AM Central Time (US and Canada) \nMeeting Agenda: \n52nd Annual Sugarbeet Research Reporting Session Brochure
URL:https://www.sbreb.org/event/sugarbeet-research-reporting-sessions-2/
LOCATION:West Fargo Conference Center\, 825 E Beaton Dr\, West Fargo\, ND\, 58078
CATEGORIES:Research Reporting,Sugarbeet Winter Meeting
END:VEVENT
BEGIN:VEVENT
DTSTART;TZID=America/Chicago:20220201T083000
DTEND;TZID=America/Chicago:20220201T123000
DTSTAMP:20260423T051256
CREATED:20220128T163236Z
LAST-MODIFIED:20220128T210357Z
UID:6323-1643704200-1643718600@www.sbreb.org
SUMMARY:ACSC Sugarbeet Growers Seminar in Grand Forks
DESCRIPTION:NDSU Schedules ACSC Sugarbeet Growers Seminars for February 2022 \nSugarbeet growers will have an opportunity to learn more about diseases\, weeds and insect pests during seminars North Dakota State University is hosting\, February 1\, 3 and 17. Seminars begin at 8:30AM. \nSeminar schedule: \n\nTuesday\, Feb. 1 – American Crystal Sugar Co. growers from the East Grand Forks and Crookston factory districts at the Alerus Center\, Grand Forks.\nThursday\, Feb. 3 – American Crystal Sugar Co. seminar for growers from the Moorhead and Hillsboro factory districts at the Holiday Inn\, Fargo\nThursday\, Feb. 17 – American Crystal Sugar Co. growers from the Drayton factory district at the Frozen Fox\, Grafton.\n\nThe presenters and topics that they will cover are: \n\nAshok Chanda\, University of Minnesota Extension sugarbeet crop systems specialist – managing Rhizoctonia damping-off and root rot of sugarbeet\nMohamed Khan\, NDSU and University of Minnesota Extension sugarbeet specialist – strategies to manage cercospora leaf spot of sugarbeet\nTom Peters\, NDSU and University of Minnesota Extension sugarbeet agronomist – weed management in sugarbeet and in crops in rotation with sugarbeet\nMark Boetel\, NDSU Extension entomologist – recommendations on how to optimize insect pest control in sugarbeet\n\nCertified crop advisers will receive continuing education credits for their participation in the seminars. Registration is not required.
URL:https://www.sbreb.org/event/acsc-sugarbeet-growers-seminar-feb-1/
LOCATION:Alerus Center\, 1200 S 42nd St.\, Grand Forks\, ND\, 58201\, United States
CATEGORIES:Growers Seminar
END:VEVENT
BEGIN:VEVENT
DTSTART;TZID=America/Chicago:20220203T083000
DTEND;TZID=America/Chicago:20220203T123000
DTSTAMP:20260423T051256
CREATED:20220128T163326Z
LAST-MODIFIED:20220128T210442Z
UID:6325-1643877000-1643891400@www.sbreb.org
SUMMARY:ACSC Sugarbeet Growers Seminar in Fargo
DESCRIPTION:NDSU Schedules ACSC Sugarbeet Growers Seminars for February 2022 \nSugarbeet growers will have an opportunity to learn more about diseases\, weeds and insect pests during seminars North Dakota State University is hosting\, February 1\, 3 and 17. Seminars begin at 8:30AM. \nSeminar schedule: \n\nTuesday\, Feb. 1 – American Crystal Sugar Co. growers from the East Grand Forks and Crookston factory districts at the Alerus Center\, Grand Forks.\nThursday\, Feb. 3 – American Crystal Sugar Co. seminar for growers from the Moorhead and Hillsboro factory districts at the Holiday Inn\, Fargo\nThursday\, Feb. 17 – American Crystal Sugar Co. growers from the Drayton factory district at the Frozen Fox\, Grafton.\n\nThe presenters and topics that they will cover are: \n\nAshok Chanda\, University of Minnesota Extension sugarbeet crop systems specialist – managing Rhizoctonia damping-off and root rot of sugarbeet\nMohamed Khan\, NDSU and University of Minnesota Extension sugarbeet specialist – strategies to manage cercospora leaf spot of sugarbeet\nTom Peters\, NDSU and University of Minnesota Extension sugarbeet agronomist – weed management in sugarbeet and in crops in rotation with sugarbeet\nMark Boetel\, NDSU Extension entomologist – recommendations on how to optimize insect pest control in sugarbeet\n\nCertified crop advisers will receive continuing education credits for their participation in the seminars. Registration is not required.
URL:https://www.sbreb.org/event/acsc-sugarbeet-growers-seminar-feb-3/
LOCATION:Holiday Inn\, Fargo\, ND\, 58103\, United States
CATEGORIES:Growers Seminar
END:VEVENT
END:VCALENDAR