BEGIN:VCALENDAR
VERSION:2.0
PRODID:-//The Sugarbeet Research and Education Board of Minnesota and North Dakota - ECPv6.15.20//NONSGML v1.0//EN
CALSCALE:GREGORIAN
METHOD:PUBLISH
X-ORIGINAL-URL:https://www.sbreb.org
X-WR-CALDESC:Events for The Sugarbeet Research and Education Board of Minnesota and North Dakota
REFRESH-INTERVAL;VALUE=DURATION:PT1H
X-Robots-Tag:noindex
X-PUBLISHED-TTL:PT1H
BEGIN:VTIMEZONE
TZID:America/Chicago
BEGIN:DAYLIGHT
TZOFFSETFROM:-0600
TZOFFSETTO:-0500
TZNAME:CDT
DTSTART:20180311T080000
END:DAYLIGHT
BEGIN:STANDARD
TZOFFSETFROM:-0500
TZOFFSETTO:-0600
TZNAME:CST
DTSTART:20181104T070000
END:STANDARD
BEGIN:DAYLIGHT
TZOFFSETFROM:-0600
TZOFFSETTO:-0500
TZNAME:CDT
DTSTART:20190310T080000
END:DAYLIGHT
BEGIN:STANDARD
TZOFFSETFROM:-0500
TZOFFSETTO:-0600
TZNAME:CST
DTSTART:20191103T070000
END:STANDARD
BEGIN:DAYLIGHT
TZOFFSETFROM:-0600
TZOFFSETTO:-0500
TZNAME:CDT
DTSTART:20200308T080000
END:DAYLIGHT
BEGIN:STANDARD
TZOFFSETFROM:-0500
TZOFFSETTO:-0600
TZNAME:CST
DTSTART:20201101T070000
END:STANDARD
END:VTIMEZONE
BEGIN:VEVENT
DTSTART;VALUE=DATE:20190220
DTEND;VALUE=DATE:20190221
DTSTAMP:20260423T144326
CREATED:20181010T172845Z
LAST-MODIFIED:20181010T172845Z
UID:5632-1550620800-1550707199@www.sbreb.org
SUMMARY:Research and Education Board Meeting
DESCRIPTION:
URL:https://www.sbreb.org/event/research-and-education-board-meeting-2/
LOCATION:Holiday Inn and Convention Center\, 3803 13th Avenue South\, Fargo\, ND\, 58103\, United States
CATEGORIES:Sugarbeet Winter Meeting
END:VEVENT
BEGIN:VEVENT
DTSTART;TZID=America/Chicago:20190226T080000
DTEND;TZID=America/Chicago:20190226T170000
DTSTAMP:20260423T144326
CREATED:20190131T193406Z
LAST-MODIFIED:20190204T210653Z
UID:5794-1551168000-1551200400@www.sbreb.org
SUMMARY:NDSU Planter Test Stand - Sidney Sugars
DESCRIPTION:
URL:https://www.sbreb.org/event/ndsu-planter-test-stand-sidney-sugars/
LOCATION:Sidney Sugars Incorporated\, 35140 Co Rd 125\, Sidney\, MT\, 59270\, United States
CATEGORIES:NDSU Planter Test Stand
END:VEVENT
BEGIN:VEVENT
DTSTART;TZID=America/Chicago:20190226T080000
DTEND;TZID=America/Chicago:20190227T170000
DTSTAMP:20260423T144326
CREATED:20190131T193535Z
LAST-MODIFIED:20190131T193547Z
UID:5796-1551168000-1551286800@www.sbreb.org
SUMMARY:NDSU Planter Test Stand - Tri-County Implement
DESCRIPTION:
URL:https://www.sbreb.org/event/ndsu-planter-test-stand-tri-county-implement/
LOCATION:Tri-County Implement Inc\, 2429 W Holly ST\, Sidney\, MT\, 59270\, United States
CATEGORIES:NDSU Planter Test Stand
END:VEVENT
BEGIN:VEVENT
DTSTART;TZID=America/Chicago:20190227T080000
DTEND;TZID=America/Chicago:20190227T170000
DTSTAMP:20260423T144326
CREATED:20190204T210632Z
LAST-MODIFIED:20190204T210632Z
UID:5840-1551254400-1551286800@www.sbreb.org
SUMMARY:NDSU Planter Test Stand - Sidney Sugars
DESCRIPTION:
URL:https://www.sbreb.org/event/ndsu-planter-test-stand-sidney-sugars-2/
LOCATION:Sidney Sugars Incorporated\, 35140 Co Rd 125\, Sidney\, MT\, 59270\, United States
CATEGORIES:NDSU Planter Test Stand
END:VEVENT
END:VCALENDAR